BEGIN:VCALENDAR
VERSION:2.0
PRODID:-//jEvents 2.0 for Joomla//EN
CALSCALE:GREGORIAN
METHOD:PUBLISH
BEGIN:VTIMEZONE
TZID:America/Chicago
BEGIN:STANDARD
DTSTART:20241103T010000
RDATE:20250309T030000
TZOFFSETFROM:-0500
TZOFFSETTO:-0600
TZNAME:America/Chicago CST
END:STANDARD
BEGIN:STANDARD
DTSTART:20251102T010000
RDATE:20260308T030000
TZOFFSETFROM:-0500
TZOFFSETTO:-0600
TZNAME:America/Chicago CST
END:STANDARD
BEGIN:STANDARD
DTSTART:20261101T010000
RDATE:20270314T030000
TZOFFSETFROM:-0500
TZOFFSETTO:-0600
TZNAME:America/Chicago CST
END:STANDARD
BEGIN:STANDARD
DTSTART:20271107T010000
RDATE:20280312T030000
TZOFFSETFROM:-0500
TZOFFSETTO:-0600
TZNAME:America/Chicago CST
END:STANDARD
BEGIN:STANDARD
DTSTART:20281105T010000
RDATE:20290311T030000
TZOFFSETFROM:-0500
TZOFFSETTO:-0600
TZNAME:America/Chicago CST
END:STANDARD
BEGIN:STANDARD
DTSTART:20291104T010000
RDATE:20300310T030000
TZOFFSETFROM:-0500
TZOFFSETTO:-0600
TZNAME:America/Chicago CST
END:STANDARD
BEGIN:STANDARD
DTSTART:20301103T010000
RDATE:20310309T030000
TZOFFSETFROM:-0500
TZOFFSETTO:-0600
TZNAME:America/Chicago CST
END:STANDARD
BEGIN:STANDARD
DTSTART:20311102T010000
RDATE:20320314T030000
TZOFFSETFROM:-0500
TZOFFSETTO:-0600
TZNAME:America/Chicago CST
END:STANDARD
BEGIN:DAYLIGHT
DTSTART:20240418T000000
RDATE:20241103T010000
TZOFFSETFROM:-0600
TZOFFSETTO:-0500
TZNAME:America/Chicago CDT
END:DAYLIGHT
BEGIN:DAYLIGHT
DTSTART:20250309T030000
RDATE:20251102T010000
TZOFFSETFROM:-0600
TZOFFSETTO:-0500
TZNAME:America/Chicago CDT
END:DAYLIGHT
BEGIN:DAYLIGHT
DTSTART:20260308T030000
RDATE:20261101T010000
TZOFFSETFROM:-0600
TZOFFSETTO:-0500
TZNAME:America/Chicago CDT
END:DAYLIGHT
BEGIN:DAYLIGHT
DTSTART:20270314T030000
RDATE:20271107T010000
TZOFFSETFROM:-0600
TZOFFSETTO:-0500
TZNAME:America/Chicago CDT
END:DAYLIGHT
BEGIN:DAYLIGHT
DTSTART:20280312T030000
RDATE:20281105T010000
TZOFFSETFROM:-0600
TZOFFSETTO:-0500
TZNAME:America/Chicago CDT
END:DAYLIGHT
BEGIN:DAYLIGHT
DTSTART:20290311T030000
RDATE:20291104T010000
TZOFFSETFROM:-0600
TZOFFSETTO:-0500
TZNAME:America/Chicago CDT
END:DAYLIGHT
BEGIN:DAYLIGHT
DTSTART:20300310T030000
RDATE:20301103T010000
TZOFFSETFROM:-0600
TZOFFSETTO:-0500
TZNAME:America/Chicago CDT
END:DAYLIGHT
BEGIN:DAYLIGHT
DTSTART:20310309T030000
RDATE:20311102T010000
TZOFFSETFROM:-0600
TZOFFSETTO:-0500
TZNAME:America/Chicago CDT
END:DAYLIGHT
END:VTIMEZONE
BEGIN:VEVENT
UID:61ab977cd312d939d0c1db3dd4933fad
CATEGORIES:Local Shows
CREATED:20250225T094513
SUMMARY:IL- Spring Fling
DESCRIPTION:Name of Show: Spring Fling\nShow Host: Illinois Paint Horse Club\nShow Loca
 tion: Illinois State Fairgrounds Coliseum, 801 E Sangamon Ave, Springfield,
  IL\nShow Manager: Jerry Wyrick, 309-826-3643, jwyrick300@ctechinternet.com
  (mailto:jwyrick300@ctechinternet.com) \nShow Secretary: Shelly Prehoda, 30
 9-830-4819, shellyprehoda62@gmail.com (mailto:shellyprehoda62@gmail.com) \n
 Registries: Color &amp; Solid\nClassifications: Horse\nJudges: Kim Garrett,
  Stephanie McConnell, Charlene Carter, Andrea Koehn-Williams\nApproval Stat
 us: APPROVEDFacebook link: https://www.facebook.com/illinoispainthorseassoc
 iation/ (https://www.facebook.com/illinoispainthorseassociation/)
X-ALT-DESC;FMTTYPE=text/html:<div>Name of Show: Spring Fling<br />Show Host: Illinois Paint Horse Club<b
 r />Show Location: Illinois State Fairgrounds Coliseum, 801 E Sangamon Ave,
  Springfield, IL<br />Show Manager: Jerry Wyrick, 309-826-3643, <a href="ma
 ilto:jwyrick300@ctechinternet.com">jwyrick300@ctechinternet.com</a>&nbsp;<b
 r />Show Secretary: Shelly Prehoda, 309-830-4819, <a href="mailto:shellypre
 hoda62@gmail.com">shellyprehoda62@gmail.com</a>&nbsp;<br />Registries: Colo
 r &amp; Solid<br />Classifications: Horse<br />Judges: Kim Garrett, Stephan
 ie McConnell, Charlene Carter, Andrea Koehn-Williams<br />Approval Status: 
 APPROVED</div><div>Facebook link:&nbsp;<a href="https://www.facebook.com/il
 linoispainthorseassociation/">https://www.facebook.com/illinoispainthorseas
 sociation/</a></div>
X-EXTRAINFO:Registries: Color &amp; Solid\nClassifications: Horse
DTSTAMP:20260424T163829
DTSTART;TZID=America/Chicago;VALUE=DATE:20250419
DTEND;TZID=America/Chicago;VALUE=DATE:20250421
SEQUENCE:0
TRANSP:OPAQUE
END:VEVENT
END:VCALENDAR