BEGIN:VCALENDAR
VERSION:2.0
PRODID:-//jEvents 2.0 for Joomla//EN
CALSCALE:GREGORIAN
METHOD:PUBLISH
BEGIN:VTIMEZONE
TZID:America/Chicago
BEGIN:STANDARD
DTSTART:20241103T010000
RDATE:20250309T030000
TZOFFSETFROM:-0500
TZOFFSETTO:-0600
TZNAME:America/Chicago CST
END:STANDARD
BEGIN:STANDARD
DTSTART:20251102T010000
RDATE:20260308T030000
TZOFFSETFROM:-0500
TZOFFSETTO:-0600
TZNAME:America/Chicago CST
END:STANDARD
BEGIN:STANDARD
DTSTART:20261101T010000
RDATE:20270314T030000
TZOFFSETFROM:-0500
TZOFFSETTO:-0600
TZNAME:America/Chicago CST
END:STANDARD
BEGIN:STANDARD
DTSTART:20271107T010000
RDATE:20280312T030000
TZOFFSETFROM:-0500
TZOFFSETTO:-0600
TZNAME:America/Chicago CST
END:STANDARD
BEGIN:STANDARD
DTSTART:20281105T010000
RDATE:20290311T030000
TZOFFSETFROM:-0500
TZOFFSETTO:-0600
TZNAME:America/Chicago CST
END:STANDARD
BEGIN:STANDARD
DTSTART:20291104T010000
RDATE:20300310T030000
TZOFFSETFROM:-0500
TZOFFSETTO:-0600
TZNAME:America/Chicago CST
END:STANDARD
BEGIN:STANDARD
DTSTART:20301103T010000
RDATE:20310309T030000
TZOFFSETFROM:-0500
TZOFFSETTO:-0600
TZNAME:America/Chicago CST
END:STANDARD
BEGIN:STANDARD
DTSTART:20311102T010000
RDATE:20320314T030000
TZOFFSETFROM:-0500
TZOFFSETTO:-0600
TZNAME:America/Chicago CST
END:STANDARD
BEGIN:DAYLIGHT
DTSTART:20240327T000000
RDATE:20241103T010000
TZOFFSETFROM:-0600
TZOFFSETTO:-0500
TZNAME:America/Chicago CDT
END:DAYLIGHT
BEGIN:DAYLIGHT
DTSTART:20250309T030000
RDATE:20251102T010000
TZOFFSETFROM:-0600
TZOFFSETTO:-0500
TZNAME:America/Chicago CDT
END:DAYLIGHT
BEGIN:DAYLIGHT
DTSTART:20260308T030000
RDATE:20261101T010000
TZOFFSETFROM:-0600
TZOFFSETTO:-0500
TZNAME:America/Chicago CDT
END:DAYLIGHT
BEGIN:DAYLIGHT
DTSTART:20270314T030000
RDATE:20271107T010000
TZOFFSETFROM:-0600
TZOFFSETTO:-0500
TZNAME:America/Chicago CDT
END:DAYLIGHT
BEGIN:DAYLIGHT
DTSTART:20280312T030000
RDATE:20281105T010000
TZOFFSETFROM:-0600
TZOFFSETTO:-0500
TZNAME:America/Chicago CDT
END:DAYLIGHT
BEGIN:DAYLIGHT
DTSTART:20290311T030000
RDATE:20291104T010000
TZOFFSETFROM:-0600
TZOFFSETTO:-0500
TZNAME:America/Chicago CDT
END:DAYLIGHT
BEGIN:DAYLIGHT
DTSTART:20300310T030000
RDATE:20301103T010000
TZOFFSETFROM:-0600
TZOFFSETTO:-0500
TZNAME:America/Chicago CDT
END:DAYLIGHT
BEGIN:DAYLIGHT
DTSTART:20310309T030000
RDATE:20311102T010000
TZOFFSETFROM:-0600
TZOFFSETTO:-0500
TZNAME:America/Chicago CDT
END:DAYLIGHT
END:VTIMEZONE
BEGIN:VEVENT
UID:fdc3f9b6bce1d4e54e72eaaaf8199c34
CATEGORIES:Local Shows
CREATED:20250225T094738
SUMMARY:OH- Spring Fling
DESCRIPTION:Name of Show: Spring Fling\nShow Host: PtHA® of Ohio\nShow Location: Champi
 on Center, 4122 Laybourne Rd, Springfield, OH\nShow Manager: Kaylee Clagett
 , 419-656-5669, diamondkfarms20@gmail.com (mailto:diamondkfarms20@gmail.com
 ) \nShow Secretary: Emily Worley, 419-656-0050, ewolery05@gmail.com (mailto
 :ewolery05@gmail.com) \nRegistries: Color &amp; Solid\nClassifications: Hor
 se, Pony, Mini\nJudges: Tina Langness, Kim Ziegler, Clara Buchal, Sherrie N
 ichols\nApproval Status: APPROVEDWebsite: https://www.ohiopinto.net/pthao-b
 oard (https://www.ohiopinto.net/pthao-board)
X-ALT-DESC;FMTTYPE=text/html:<div>Name of Show: Spring Fling<br />Show Host: PtHA® of Ohio<br />Show Loc
 ation: Champion Center, 4122 Laybourne Rd, Springfield, OH<br />Show Manage
 r: Kaylee Clagett, 419-656-5669, <a href="mailto:diamondkfarms20@gmail.com"
 >diamondkfarms20@gmail.com</a>&nbsp;<br />Show Secretary: Emily Worley, 419
 -656-0050, <a href="mailto:ewolery05@gmail.com">ewolery05@gmail.com</a>&nbs
 p;<br />Registries: Color &amp; Solid<br />Classifications: Horse, Pony, Mi
 ni<br />Judges: Tina Langness, Kim Ziegler, Clara Buchal, Sherrie Nichols<b
 r />Approval Status: APPROVED</div><div>Website:&nbsp;<a href="https://www.
 ohiopinto.net/pthao-board">https://www.ohiopinto.net/pthao-board</a></div>
X-EXTRAINFO:Registries: Color &amp; Solid\nClassifications: Horse, Pony, Mini
DTSTAMP:20260424T155012
DTSTART;TZID=America/Chicago;VALUE=DATE:20250328
DTEND;TZID=America/Chicago;VALUE=DATE:20250331
SEQUENCE:0
TRANSP:OPAQUE
END:VEVENT
END:VCALENDAR