BEGIN:VCALENDAR
VERSION:2.0
PRODID:-//jEvents 2.0 for Joomla//EN
CALSCALE:GREGORIAN
METHOD:PUBLISH
BEGIN:VTIMEZONE
TZID:America/Chicago
BEGIN:STANDARD
DTSTART:20241103T010000
RDATE:20250309T030000
TZOFFSETFROM:-0500
TZOFFSETTO:-0600
TZNAME:America/Chicago CST
END:STANDARD
BEGIN:STANDARD
DTSTART:20251102T010000
RDATE:20260308T030000
TZOFFSETFROM:-0500
TZOFFSETTO:-0600
TZNAME:America/Chicago CST
END:STANDARD
BEGIN:STANDARD
DTSTART:20261101T010000
RDATE:20270314T030000
TZOFFSETFROM:-0500
TZOFFSETTO:-0600
TZNAME:America/Chicago CST
END:STANDARD
BEGIN:STANDARD
DTSTART:20271107T010000
RDATE:20280312T030000
TZOFFSETFROM:-0500
TZOFFSETTO:-0600
TZNAME:America/Chicago CST
END:STANDARD
BEGIN:STANDARD
DTSTART:20281105T010000
RDATE:20290311T030000
TZOFFSETFROM:-0500
TZOFFSETTO:-0600
TZNAME:America/Chicago CST
END:STANDARD
BEGIN:STANDARD
DTSTART:20291104T010000
RDATE:20300310T030000
TZOFFSETFROM:-0500
TZOFFSETTO:-0600
TZNAME:America/Chicago CST
END:STANDARD
BEGIN:STANDARD
DTSTART:20301103T010000
RDATE:20310309T030000
TZOFFSETFROM:-0500
TZOFFSETTO:-0600
TZNAME:America/Chicago CST
END:STANDARD
BEGIN:STANDARD
DTSTART:20311102T010000
RDATE:20320314T030000
TZOFFSETFROM:-0500
TZOFFSETTO:-0600
TZNAME:America/Chicago CST
END:STANDARD
BEGIN:DAYLIGHT
DTSTART:20240516T000000
RDATE:20241103T010000
TZOFFSETFROM:-0600
TZOFFSETTO:-0500
TZNAME:America/Chicago CDT
END:DAYLIGHT
BEGIN:DAYLIGHT
DTSTART:20250309T030000
RDATE:20251102T010000
TZOFFSETFROM:-0600
TZOFFSETTO:-0500
TZNAME:America/Chicago CDT
END:DAYLIGHT
BEGIN:DAYLIGHT
DTSTART:20260308T030000
RDATE:20261101T010000
TZOFFSETFROM:-0600
TZOFFSETTO:-0500
TZNAME:America/Chicago CDT
END:DAYLIGHT
BEGIN:DAYLIGHT
DTSTART:20270314T030000
RDATE:20271107T010000
TZOFFSETFROM:-0600
TZOFFSETTO:-0500
TZNAME:America/Chicago CDT
END:DAYLIGHT
BEGIN:DAYLIGHT
DTSTART:20280312T030000
RDATE:20281105T010000
TZOFFSETFROM:-0600
TZOFFSETTO:-0500
TZNAME:America/Chicago CDT
END:DAYLIGHT
BEGIN:DAYLIGHT
DTSTART:20290311T030000
RDATE:20291104T010000
TZOFFSETFROM:-0600
TZOFFSETTO:-0500
TZNAME:America/Chicago CDT
END:DAYLIGHT
BEGIN:DAYLIGHT
DTSTART:20300310T030000
RDATE:20301103T010000
TZOFFSETFROM:-0600
TZOFFSETTO:-0500
TZNAME:America/Chicago CDT
END:DAYLIGHT
BEGIN:DAYLIGHT
DTSTART:20310309T030000
RDATE:20311102T010000
TZOFFSETFROM:-0600
TZOFFSETTO:-0500
TZNAME:America/Chicago CDT
END:DAYLIGHT
END:VTIMEZONE
BEGIN:VEVENT
UID:21eecefc363819e4f97e40ce7e1bc709
CATEGORIES:Local Shows
CREATED:20250225T100236
SUMMARY:OK- Mini Stampede
DESCRIPTION:Name of Show: Mini Stampede\nShow Host: Oklahoma Miniature Horse Club\nShow
  Location: Heart of Oklahoma Expo, 1700 W Independence, Shawnee, OK\nShow M
 anager &amp; Secretary: Ruby Priore, 918-576-1452,  (mailto:pintohorselady@
 yahoo.com)pintohorselady@yahoo.com (mailto:pintohorselady@yahoo.com) \nRegi
 stries: Color \nClassifications: Mini\nJudges: Chris Bickford\nApproval Sta
 tus: APPROVEDWebsite:  (https://omhci.org)https://omhci.org (https://omhci.
 org)
X-ALT-DESC;FMTTYPE=text/html:<div>Name of Show: Mini Stampede<br />Show Host: Oklahoma Miniature Horse C
 lub<br />Show Location: Heart of Oklahoma Expo, 1700 W Independence, Shawne
 e, OK<br />Show Manager &amp; Secretary: Ruby Priore, 918-576-1452,&nbsp;<a
  href="mailto:pintohorselady@yahoo.com"></a><a href="mailto:pintohorselady@
 yahoo.com">pintohorselady@yahoo.com</a>&nbsp;<br />Registries: Color&nbsp;<
 br />Classifications: Mini<br />Judges: Chris Bickford<br />Approval Status
 : APPROVED</div><div>Website:&nbsp;<a href="https://omhci.org"></a><a href=
 "https://omhci.org">https://omhci.org</a></div>
X-EXTRAINFO:Registries: Color \nClassifications: Mini
DTSTAMP:20260424T163839
DTSTART;TZID=America/Chicago;VALUE=DATE:20250517
DTEND;TZID=America/Chicago;VALUE=DATE:20250518
SEQUENCE:0
TRANSP:OPAQUE
END:VEVENT
END:VCALENDAR