BEGIN:VCALENDAR
VERSION:2.0
PRODID:-//jEvents 2.0 for Joomla//EN
CALSCALE:GREGORIAN
METHOD:PUBLISH
BEGIN:VTIMEZONE
TZID:America/Chicago
BEGIN:STANDARD
DTSTART:20241103T010000
RDATE:20250309T030000
TZOFFSETFROM:-0500
TZOFFSETTO:-0600
TZNAME:America/Chicago CST
END:STANDARD
BEGIN:STANDARD
DTSTART:20251102T010000
RDATE:20260308T030000
TZOFFSETFROM:-0500
TZOFFSETTO:-0600
TZNAME:America/Chicago CST
END:STANDARD
BEGIN:STANDARD
DTSTART:20261101T010000
RDATE:20270314T030000
TZOFFSETFROM:-0500
TZOFFSETTO:-0600
TZNAME:America/Chicago CST
END:STANDARD
BEGIN:STANDARD
DTSTART:20271107T010000
RDATE:20280312T030000
TZOFFSETFROM:-0500
TZOFFSETTO:-0600
TZNAME:America/Chicago CST
END:STANDARD
BEGIN:STANDARD
DTSTART:20281105T010000
RDATE:20290311T030000
TZOFFSETFROM:-0500
TZOFFSETTO:-0600
TZNAME:America/Chicago CST
END:STANDARD
BEGIN:STANDARD
DTSTART:20291104T010000
RDATE:20300310T030000
TZOFFSETFROM:-0500
TZOFFSETTO:-0600
TZNAME:America/Chicago CST
END:STANDARD
BEGIN:STANDARD
DTSTART:20301103T010000
RDATE:20310309T030000
TZOFFSETFROM:-0500
TZOFFSETTO:-0600
TZNAME:America/Chicago CST
END:STANDARD
BEGIN:STANDARD
DTSTART:20311102T010000
RDATE:20320314T030000
TZOFFSETFROM:-0500
TZOFFSETTO:-0600
TZNAME:America/Chicago CST
END:STANDARD
BEGIN:DAYLIGHT
DTSTART:20240724T000000
RDATE:20241103T010000
TZOFFSETFROM:-0600
TZOFFSETTO:-0500
TZNAME:America/Chicago CDT
END:DAYLIGHT
BEGIN:DAYLIGHT
DTSTART:20250309T030000
RDATE:20251102T010000
TZOFFSETFROM:-0600
TZOFFSETTO:-0500
TZNAME:America/Chicago CDT
END:DAYLIGHT
BEGIN:DAYLIGHT
DTSTART:20260308T030000
RDATE:20261101T010000
TZOFFSETFROM:-0600
TZOFFSETTO:-0500
TZNAME:America/Chicago CDT
END:DAYLIGHT
BEGIN:DAYLIGHT
DTSTART:20270314T030000
RDATE:20271107T010000
TZOFFSETFROM:-0600
TZOFFSETTO:-0500
TZNAME:America/Chicago CDT
END:DAYLIGHT
BEGIN:DAYLIGHT
DTSTART:20280312T030000
RDATE:20281105T010000
TZOFFSETFROM:-0600
TZOFFSETTO:-0500
TZNAME:America/Chicago CDT
END:DAYLIGHT
BEGIN:DAYLIGHT
DTSTART:20290311T030000
RDATE:20291104T010000
TZOFFSETFROM:-0600
TZOFFSETTO:-0500
TZNAME:America/Chicago CDT
END:DAYLIGHT
BEGIN:DAYLIGHT
DTSTART:20300310T030000
RDATE:20301103T010000
TZOFFSETFROM:-0600
TZOFFSETTO:-0500
TZNAME:America/Chicago CDT
END:DAYLIGHT
BEGIN:DAYLIGHT
DTSTART:20310309T030000
RDATE:20311102T010000
TZOFFSETFROM:-0600
TZOFFSETTO:-0500
TZNAME:America/Chicago CDT
END:DAYLIGHT
END:VTIMEZONE
BEGIN:VEVENT
UID:4f37536383282e6b92dd6f70c0980a2e
CATEGORIES:Local Shows
CREATED:20250225T102051
SUMMARY:OH- Lots O Spots
DESCRIPTION:<div>Name of Show: Lots "O" Spots<br />Show Host: PtHA® of Ohio<br />Show L
 ocation: University of Findlay, 14700 US Route 68, Findlay, OH<br />Show Ma
 nager: Kaylee Clagett, 419-656-5669,&nbsp;<a href="mailto:diamondkfarms20@g
 mail.com"></a><a href="mailto:diamondkfarms20@gmail.com">diamondkfarms20@gm
 ail.com</a>&nbsp;<br />Show Secretary: Emily Worley, 419-656-0050,&nbsp;<a 
 href="mailto:ewolery05@gmail.com"></a><a href="mailto:ewolery05@gmail.com">
 ewolery05@gmail.com</a>&nbsp;<br />Registries: Color &amp; Solid<br />Class
 ifications: Horse, Pony, Mini<br />Judges: Dennis Clement, Terri Klein-Scwe
 ger, Deb Jarvis, Kerri Kyle<br />Approval Status: APPROVED</div><div>Websit
 e:&nbsp;<a href="https://www.ohiopinto.net/pthao-board"></a><a href="https:
 //www.ohiopinto.net/pthao-board">https://www.ohiopinto.net/pthao-board</a><
 /div>
X-EXTRAINFO:Registries: Color &amp; Solid\nClassifications: Horse, Pony, Mini
DTSTAMP:20260424T181725
DTSTART;TZID=America/Chicago;VALUE=DATE:20250725
DTEND;TZID=America/Chicago;VALUE=DATE:20250728
SEQUENCE:0
TRANSP:OPAQUE
END:VEVENT
END:VCALENDAR