BEGIN:VCALENDAR
VERSION:2.0
PRODID:-//jEvents 2.0 for Joomla//EN
CALSCALE:GREGORIAN
METHOD:PUBLISH
BEGIN:VTIMEZONE
TZID:America/Chicago
BEGIN:STANDARD
DTSTART:20241103T010000
RDATE:20250309T030000
TZOFFSETFROM:-0500
TZOFFSETTO:-0600
TZNAME:America/Chicago CST
END:STANDARD
BEGIN:STANDARD
DTSTART:20251102T010000
RDATE:20260308T030000
TZOFFSETFROM:-0500
TZOFFSETTO:-0600
TZNAME:America/Chicago CST
END:STANDARD
BEGIN:STANDARD
DTSTART:20261101T010000
RDATE:20270314T030000
TZOFFSETFROM:-0500
TZOFFSETTO:-0600
TZNAME:America/Chicago CST
END:STANDARD
BEGIN:STANDARD
DTSTART:20271107T010000
RDATE:20280312T030000
TZOFFSETFROM:-0500
TZOFFSETTO:-0600
TZNAME:America/Chicago CST
END:STANDARD
BEGIN:STANDARD
DTSTART:20281105T010000
RDATE:20290311T030000
TZOFFSETFROM:-0500
TZOFFSETTO:-0600
TZNAME:America/Chicago CST
END:STANDARD
BEGIN:STANDARD
DTSTART:20291104T010000
RDATE:20300310T030000
TZOFFSETFROM:-0500
TZOFFSETTO:-0600
TZNAME:America/Chicago CST
END:STANDARD
BEGIN:STANDARD
DTSTART:20301103T010000
RDATE:20310309T030000
TZOFFSETFROM:-0500
TZOFFSETTO:-0600
TZNAME:America/Chicago CST
END:STANDARD
BEGIN:STANDARD
DTSTART:20311102T010000
RDATE:20320314T030000
TZOFFSETFROM:-0500
TZOFFSETTO:-0600
TZNAME:America/Chicago CST
END:STANDARD
BEGIN:DAYLIGHT
DTSTART:20240410T000000
RDATE:20241103T010000
TZOFFSETFROM:-0600
TZOFFSETTO:-0500
TZNAME:America/Chicago CDT
END:DAYLIGHT
BEGIN:DAYLIGHT
DTSTART:20250309T030000
RDATE:20251102T010000
TZOFFSETFROM:-0600
TZOFFSETTO:-0500
TZNAME:America/Chicago CDT
END:DAYLIGHT
BEGIN:DAYLIGHT
DTSTART:20260308T030000
RDATE:20261101T010000
TZOFFSETFROM:-0600
TZOFFSETTO:-0500
TZNAME:America/Chicago CDT
END:DAYLIGHT
BEGIN:DAYLIGHT
DTSTART:20270314T030000
RDATE:20271107T010000
TZOFFSETFROM:-0600
TZOFFSETTO:-0500
TZNAME:America/Chicago CDT
END:DAYLIGHT
BEGIN:DAYLIGHT
DTSTART:20280312T030000
RDATE:20281105T010000
TZOFFSETFROM:-0600
TZOFFSETTO:-0500
TZNAME:America/Chicago CDT
END:DAYLIGHT
BEGIN:DAYLIGHT
DTSTART:20290311T030000
RDATE:20291104T010000
TZOFFSETFROM:-0600
TZOFFSETTO:-0500
TZNAME:America/Chicago CDT
END:DAYLIGHT
BEGIN:DAYLIGHT
DTSTART:20300310T030000
RDATE:20301103T010000
TZOFFSETFROM:-0600
TZOFFSETTO:-0500
TZNAME:America/Chicago CDT
END:DAYLIGHT
BEGIN:DAYLIGHT
DTSTART:20310309T030000
RDATE:20311102T010000
TZOFFSETFROM:-0600
TZOFFSETTO:-0500
TZNAME:America/Chicago CDT
END:DAYLIGHT
END:VTIMEZONE
BEGIN:VEVENT
UID:8c4da436bcb2e2fc34bd96e411e6daf5
CATEGORIES:Local Shows
CREATED:20250225T103754
SUMMARY:WA- Lets Go Show
DESCRIPTION:Name of Show: Let's Go Pinto Show\nShow Host: PtHA® of Western Washington\n
 Show Location: Tacoma Unit, 17812 14th Ave E, Spanaway, WA\nShow Manager: S
 teve Bryson, 360-888-6675, threebeatlope@yahoo.com (mailto:threebeatlope@ya
 hoo.com) \nShow Secretary: Deborah Hoines, 360-556-1227, flarebear@cco.net\
 nRegistries: Color &amp; Solid\nClassifications: Horse, Pony, Mini\nJudges:
  TBA\nApproval Status: PENDINGWebsite: https://www.pthaww.org (https://www.
 pthaww.org)
X-ALT-DESC;FMTTYPE=text/html:<div>Name of Show:&nbsp;Let's Go Pinto Show<br />Show Host: PtHA® of Wester
 n Washington<br />Show Location: Tacoma Unit, 17812 14th Ave E, Spanaway, W
 A<br />Show Manager: Steve Bryson, 360-888-6675, <a href="mailto:threebeatl
 ope@yahoo.com">threebeatlope@yahoo.com</a>&nbsp;<br />Show Secretary: Debor
 ah Hoines, 360-556-1227, flarebear@cco.net<br />Registries: Color &amp; Sol
 id<br />Classifications: Horse, Pony, Mini<br />Judges: TBA<br />Approval S
 tatus: PENDING</div><div>Website:&nbsp;<a href="https://www.pthaww.org">htt
 ps://www.pthaww.org</a></div>
X-EXTRAINFO:Registries: Color &amp; Solid\nClassifications: Horse, Pony, MIni
DTSTAMP:20260424T140409
DTSTART;TZID=America/Chicago;VALUE=DATE:20250411
DTEND;TZID=America/Chicago;VALUE=DATE:20250414
SEQUENCE:0
TRANSP:OPAQUE
END:VEVENT
END:VCALENDAR