BEGIN:VCALENDAR
VERSION:2.0
PRODID:-//jEvents 2.0 for Joomla//EN
CALSCALE:GREGORIAN
METHOD:PUBLISH
BEGIN:VTIMEZONE
TZID:America/Chicago
BEGIN:STANDARD
DTSTART:20241103T010000
RDATE:20250309T030000
TZOFFSETFROM:-0500
TZOFFSETTO:-0600
TZNAME:America/Chicago CST
END:STANDARD
BEGIN:STANDARD
DTSTART:20251102T010000
RDATE:20260308T030000
TZOFFSETFROM:-0500
TZOFFSETTO:-0600
TZNAME:America/Chicago CST
END:STANDARD
BEGIN:STANDARD
DTSTART:20261101T010000
RDATE:20270314T030000
TZOFFSETFROM:-0500
TZOFFSETTO:-0600
TZNAME:America/Chicago CST
END:STANDARD
BEGIN:STANDARD
DTSTART:20271107T010000
RDATE:20280312T030000
TZOFFSETFROM:-0500
TZOFFSETTO:-0600
TZNAME:America/Chicago CST
END:STANDARD
BEGIN:STANDARD
DTSTART:20281105T010000
RDATE:20290311T030000
TZOFFSETFROM:-0500
TZOFFSETTO:-0600
TZNAME:America/Chicago CST
END:STANDARD
BEGIN:STANDARD
DTSTART:20291104T010000
RDATE:20300310T030000
TZOFFSETFROM:-0500
TZOFFSETTO:-0600
TZNAME:America/Chicago CST
END:STANDARD
BEGIN:STANDARD
DTSTART:20301103T010000
RDATE:20310309T030000
TZOFFSETFROM:-0500
TZOFFSETTO:-0600
TZNAME:America/Chicago CST
END:STANDARD
BEGIN:STANDARD
DTSTART:20311102T010000
RDATE:20320314T030000
TZOFFSETFROM:-0500
TZOFFSETTO:-0600
TZNAME:America/Chicago CST
END:STANDARD
BEGIN:DAYLIGHT
DTSTART:20241023T000000
RDATE:20241103T010000
TZOFFSETFROM:-0600
TZOFFSETTO:-0500
TZNAME:America/Chicago CDT
END:DAYLIGHT
BEGIN:DAYLIGHT
DTSTART:20250309T030000
RDATE:20251102T010000
TZOFFSETFROM:-0600
TZOFFSETTO:-0500
TZNAME:America/Chicago CDT
END:DAYLIGHT
BEGIN:DAYLIGHT
DTSTART:20260308T030000
RDATE:20261101T010000
TZOFFSETFROM:-0600
TZOFFSETTO:-0500
TZNAME:America/Chicago CDT
END:DAYLIGHT
BEGIN:DAYLIGHT
DTSTART:20270314T030000
RDATE:20271107T010000
TZOFFSETFROM:-0600
TZOFFSETTO:-0500
TZNAME:America/Chicago CDT
END:DAYLIGHT
BEGIN:DAYLIGHT
DTSTART:20280312T030000
RDATE:20281105T010000
TZOFFSETFROM:-0600
TZOFFSETTO:-0500
TZNAME:America/Chicago CDT
END:DAYLIGHT
BEGIN:DAYLIGHT
DTSTART:20290311T030000
RDATE:20291104T010000
TZOFFSETFROM:-0600
TZOFFSETTO:-0500
TZNAME:America/Chicago CDT
END:DAYLIGHT
BEGIN:DAYLIGHT
DTSTART:20300310T030000
RDATE:20301103T010000
TZOFFSETFROM:-0600
TZOFFSETTO:-0500
TZNAME:America/Chicago CDT
END:DAYLIGHT
BEGIN:DAYLIGHT
DTSTART:20310309T030000
RDATE:20311102T010000
TZOFFSETFROM:-0600
TZOFFSETTO:-0500
TZNAME:America/Chicago CDT
END:DAYLIGHT
END:VTIMEZONE
BEGIN:VEVENT
UID:3cfd6fdb1f3a72bddf245d98c1984b9f
CATEGORIES:Local Shows
CREATED:20250225T104607
SUMMARY:FL- Spooktacular Colors
DESCRIPTION:Name of Show: Spooktacular Colors\nShow Host: Florida Paint Horse Club\nSho
 w Location: Alachua Co Ag &amp; Equestrian Center, 23100 W Newberry Rd, New
 berry, FL\nShow Manager: James Hoyt, 352-219-7393\nShow Secretary: Anne Kel
 ly, 850-524-2663, \nRegistries: Color &amp; Solid\nClassifications: Horse, 
 Mini, Pony\nJudges: Kim Garrett, Pat Smith\nApproval Status: PENDING\n
X-ALT-DESC;FMTTYPE=text/html:<p>Name of Show: Spooktacular Colors<br />Show Host: Florida Paint Horse Cl
 ub<br />Show Location:&nbsp;Alachua Co Ag &amp; Equestrian Center, 23100 W 
 Newberry Rd, Newberry, FL<br />Show Manager:&nbsp;James Hoyt, 352-219-7393<
 br />Show Secretary:&nbsp;Anne Kelly, 850-524-2663,&nbsp;<br />Registries: 
 Color &amp; Solid<br />Classifications: Horse, Mini, Pony<br />Judges: Kim 
 Garrett, Pat Smith<br />Approval Status: PENDING</p>
X-EXTRAINFO:Registries: Color &amp; Solid\nClassifications: Horse, Mini, Pony
DTSTAMP:20260424T153209
DTSTART;TZID=America/Chicago;VALUE=DATE:20251024
DTEND;TZID=America/Chicago;VALUE=DATE:20251027
SEQUENCE:0
TRANSP:OPAQUE
END:VEVENT
END:VCALENDAR