BEGIN:VCALENDAR
VERSION:2.0
PRODID:-//jEvents 2.0 for Joomla//EN
CALSCALE:GREGORIAN
METHOD:PUBLISH
BEGIN:VTIMEZONE
TZID:America/Chicago
BEGIN:STANDARD
DTSTART:20241103T010000
RDATE:20250309T030000
TZOFFSETFROM:-0500
TZOFFSETTO:-0600
TZNAME:America/Chicago CST
END:STANDARD
BEGIN:STANDARD
DTSTART:20251102T010000
RDATE:20260308T030000
TZOFFSETFROM:-0500
TZOFFSETTO:-0600
TZNAME:America/Chicago CST
END:STANDARD
BEGIN:STANDARD
DTSTART:20261101T010000
RDATE:20270314T030000
TZOFFSETFROM:-0500
TZOFFSETTO:-0600
TZNAME:America/Chicago CST
END:STANDARD
BEGIN:STANDARD
DTSTART:20271107T010000
RDATE:20280312T030000
TZOFFSETFROM:-0500
TZOFFSETTO:-0600
TZNAME:America/Chicago CST
END:STANDARD
BEGIN:STANDARD
DTSTART:20281105T010000
RDATE:20290311T030000
TZOFFSETFROM:-0500
TZOFFSETTO:-0600
TZNAME:America/Chicago CST
END:STANDARD
BEGIN:STANDARD
DTSTART:20291104T010000
RDATE:20300310T030000
TZOFFSETFROM:-0500
TZOFFSETTO:-0600
TZNAME:America/Chicago CST
END:STANDARD
BEGIN:STANDARD
DTSTART:20301103T010000
RDATE:20310309T030000
TZOFFSETFROM:-0500
TZOFFSETTO:-0600
TZNAME:America/Chicago CST
END:STANDARD
BEGIN:STANDARD
DTSTART:20311102T010000
RDATE:20320314T030000
TZOFFSETFROM:-0500
TZOFFSETTO:-0600
TZNAME:America/Chicago CST
END:STANDARD
BEGIN:DAYLIGHT
DTSTART:20240417T000000
RDATE:20241103T010000
TZOFFSETFROM:-0600
TZOFFSETTO:-0500
TZNAME:America/Chicago CDT
END:DAYLIGHT
BEGIN:DAYLIGHT
DTSTART:20250309T030000
RDATE:20251102T010000
TZOFFSETFROM:-0600
TZOFFSETTO:-0500
TZNAME:America/Chicago CDT
END:DAYLIGHT
BEGIN:DAYLIGHT
DTSTART:20260308T030000
RDATE:20261101T010000
TZOFFSETFROM:-0600
TZOFFSETTO:-0500
TZNAME:America/Chicago CDT
END:DAYLIGHT
BEGIN:DAYLIGHT
DTSTART:20270314T030000
RDATE:20271107T010000
TZOFFSETFROM:-0600
TZOFFSETTO:-0500
TZNAME:America/Chicago CDT
END:DAYLIGHT
BEGIN:DAYLIGHT
DTSTART:20280312T030000
RDATE:20281105T010000
TZOFFSETFROM:-0600
TZOFFSETTO:-0500
TZNAME:America/Chicago CDT
END:DAYLIGHT
BEGIN:DAYLIGHT
DTSTART:20290311T030000
RDATE:20291104T010000
TZOFFSETFROM:-0600
TZOFFSETTO:-0500
TZNAME:America/Chicago CDT
END:DAYLIGHT
BEGIN:DAYLIGHT
DTSTART:20300310T030000
RDATE:20301103T010000
TZOFFSETFROM:-0600
TZOFFSETTO:-0500
TZNAME:America/Chicago CDT
END:DAYLIGHT
BEGIN:DAYLIGHT
DTSTART:20310309T030000
RDATE:20311102T010000
TZOFFSETFROM:-0600
TZOFFSETTO:-0500
TZNAME:America/Chicago CDT
END:DAYLIGHT
END:VTIMEZONE
BEGIN:VEVENT
UID:b7bdd2ab4265728473c0a050ab7af102
CATEGORIES:Local Shows
CREATED:20250225T115157
SUMMARY:MI- Spring Kickoff
DESCRIPTION:Name of Show: Spring KickOff\nShow Host: Michigan State Pinto Breeders &amp
 ; Owners\nShow Location: Shiawasee Co Fairgrounds, 2900 Hibbard Rd, Corunna
 , MI 48817\nShow Manager: Jamie Stohlman, 248-521-9405, longtrotting1@gmail
 .com \nShow Secretary: Kristal Baker, 989-660-9064, kristalbaker2020@gmail.
 com (mailto:kristalbaker2020@gmail.com) \nRegistries: Color &amp; Solid\nCl
 assifications: Horse\nJudges: Rick Warne, Susan Robinson, Emily Spray, Mark
  Smith\nApproval Status: PENDINGWebsite: https://www.michiganpinto.org (htt
 ps://www.michiganpinto.org) 
X-ALT-DESC;FMTTYPE=text/html:<div>Name of Show: Spring KickOff<br />Show Host: Michigan State Pinto Bree
 ders &amp; Owners<br />Show Location: Shiawasee Co Fairgrounds, 2900 Hibbar
 d Rd, Corunna, MI 48817<br />Show Manager: Jamie Stohlman, 248-521-9405, <a
  href="mailto:longtrotting1@gmail.com">longtrotting1@gmail.com</a>&nbsp;<br
  />Show Secretary: Kristal Baker, 989-660-9064, <a href="mailto:kristalbake
 r2020@gmail.com">kristalbaker2020@gmail.com</a>&nbsp;<br />Registries: Colo
 r &amp; Solid<br />Classifications: Horse<br />Judges: Rick Warne, Susan Ro
 binson, Emily Spray, Mark Smith<br />Approval Status: PENDING</div><div>Web
 site:&nbsp;<a href="https://www.michiganpinto.org">https://www.michiganpint
 o.org</a>&nbsp;</div>
X-EXTRAINFO:Registries: Color &amp; Solid\nClassifications: Horse
DTSTAMP:20260424T135239
DTSTART;TZID=America/Chicago;VALUE=DATE:20250418
DTEND;TZID=America/Chicago;VALUE=DATE:20250421
SEQUENCE:0
TRANSP:OPAQUE
END:VEVENT
END:VCALENDAR