BEGIN:VCALENDAR
VERSION:2.0
PRODID:-//jEvents 2.0 for Joomla//EN
CALSCALE:GREGORIAN
METHOD:PUBLISH
BEGIN:VTIMEZONE
TZID:America/Chicago
BEGIN:STANDARD
DTSTART:20241103T010000
RDATE:20250309T030000
TZOFFSETFROM:-0500
TZOFFSETTO:-0600
TZNAME:America/Chicago CST
END:STANDARD
BEGIN:STANDARD
DTSTART:20251102T010000
RDATE:20260308T030000
TZOFFSETFROM:-0500
TZOFFSETTO:-0600
TZNAME:America/Chicago CST
END:STANDARD
BEGIN:STANDARD
DTSTART:20261101T010000
RDATE:20270314T030000
TZOFFSETFROM:-0500
TZOFFSETTO:-0600
TZNAME:America/Chicago CST
END:STANDARD
BEGIN:STANDARD
DTSTART:20271107T010000
RDATE:20280312T030000
TZOFFSETFROM:-0500
TZOFFSETTO:-0600
TZNAME:America/Chicago CST
END:STANDARD
BEGIN:STANDARD
DTSTART:20281105T010000
RDATE:20290311T030000
TZOFFSETFROM:-0500
TZOFFSETTO:-0600
TZNAME:America/Chicago CST
END:STANDARD
BEGIN:STANDARD
DTSTART:20291104T010000
RDATE:20300310T030000
TZOFFSETFROM:-0500
TZOFFSETTO:-0600
TZNAME:America/Chicago CST
END:STANDARD
BEGIN:STANDARD
DTSTART:20301103T010000
RDATE:20310309T030000
TZOFFSETFROM:-0500
TZOFFSETTO:-0600
TZNAME:America/Chicago CST
END:STANDARD
BEGIN:STANDARD
DTSTART:20311102T010000
RDATE:20320314T030000
TZOFFSETFROM:-0500
TZOFFSETTO:-0600
TZNAME:America/Chicago CST
END:STANDARD
BEGIN:DAYLIGHT
DTSTART:20240811T000000
RDATE:20241103T010000
TZOFFSETFROM:-0600
TZOFFSETTO:-0500
TZNAME:America/Chicago CDT
END:DAYLIGHT
BEGIN:DAYLIGHT
DTSTART:20250309T030000
RDATE:20251102T010000
TZOFFSETFROM:-0600
TZOFFSETTO:-0500
TZNAME:America/Chicago CDT
END:DAYLIGHT
BEGIN:DAYLIGHT
DTSTART:20260308T030000
RDATE:20261101T010000
TZOFFSETFROM:-0600
TZOFFSETTO:-0500
TZNAME:America/Chicago CDT
END:DAYLIGHT
BEGIN:DAYLIGHT
DTSTART:20270314T030000
RDATE:20271107T010000
TZOFFSETFROM:-0600
TZOFFSETTO:-0500
TZNAME:America/Chicago CDT
END:DAYLIGHT
BEGIN:DAYLIGHT
DTSTART:20280312T030000
RDATE:20281105T010000
TZOFFSETFROM:-0600
TZOFFSETTO:-0500
TZNAME:America/Chicago CDT
END:DAYLIGHT
BEGIN:DAYLIGHT
DTSTART:20290311T030000
RDATE:20291104T010000
TZOFFSETFROM:-0600
TZOFFSETTO:-0500
TZNAME:America/Chicago CDT
END:DAYLIGHT
BEGIN:DAYLIGHT
DTSTART:20300310T030000
RDATE:20301103T010000
TZOFFSETFROM:-0600
TZOFFSETTO:-0500
TZNAME:America/Chicago CDT
END:DAYLIGHT
BEGIN:DAYLIGHT
DTSTART:20310309T030000
RDATE:20311102T010000
TZOFFSETFROM:-0600
TZOFFSETTO:-0500
TZNAME:America/Chicago CDT
END:DAYLIGHT
END:VTIMEZONE
BEGIN:VEVENT
UID:e67834c7f2cb27809780de7cbbff3d11
CATEGORIES:Local Shows
CREATED:20250801T153006
SUMMARY:MA- NEPtHA Fall Fiesta
DESCRIPTION:Name of Show: Fall Fiesta (https://neptha.info)\nShow Host: New England PtH
 A®\nShow Location: Three County Fairgrounds, 54 Fair St, N. Hampton, MA 010
 60\nShow Manager: Nikki Joseph, 860-463-0560\nShow Secretary: Michaela Shea
 , 508-965-0057\nRegistries: Color &amp; Solid\nClassifications: Horse, Pony
 , &amp; Mini\nJudges: Mike Adams, Jennifer Sawyer, Butch Watson, &amp; Scot
 t McFarland\nApproval Status: PENDING\n
X-ALT-DESC;FMTTYPE=text/html:<p>Name of Show: <a href="https://neptha.info" target="_blank" rel="noopene
 r">Fall Fiesta</a><br />Show Host: New England PtHA®<br />Show Location: Th
 ree County Fairgrounds, 54 Fair St, N. Hampton, MA 01060<br />Show Manager:
  Nikki Joseph, 860-463-0560<br />Show Secretary: Michaela Shea, 508-965-005
 7<br />Registries: Color &amp; Solid<br />Classifications: Horse, Pony, &am
 p; Mini<br />Judges: Mike Adams, Jennifer Sawyer, Butch Watson, &amp; Scott
  McFarland<br />Approval Status: PENDING</p>
X-EXTRAINFO:Registries: Color &amp; Solid\nClassifications: Horse, Pony, &amp; Mini
DTSTAMP:20260424T153214
DTSTART;TZID=America/Chicago;VALUE=DATE:20250812
DTEND;TZID=America/Chicago;VALUE=DATE:20250815
SEQUENCE:0
TRANSP:OPAQUE
END:VEVENT
END:VCALENDAR