BEGIN:VCALENDAR
VERSION:2.0
PRODID:-//jEvents 2.0 for Joomla//EN
CALSCALE:GREGORIAN
METHOD:PUBLISH
BEGIN:VTIMEZONE
TZID:America/Chicago
BEGIN:STANDARD
DTSTART:20251102T010000
RDATE:20260308T030000
TZOFFSETFROM:-0500
TZOFFSETTO:-0600
TZNAME:America/Chicago CST
END:STANDARD
BEGIN:STANDARD
DTSTART:20261101T010000
RDATE:20270314T030000
TZOFFSETFROM:-0500
TZOFFSETTO:-0600
TZNAME:America/Chicago CST
END:STANDARD
BEGIN:STANDARD
DTSTART:20271107T010000
RDATE:20280312T030000
TZOFFSETFROM:-0500
TZOFFSETTO:-0600
TZNAME:America/Chicago CST
END:STANDARD
BEGIN:STANDARD
DTSTART:20281105T010000
RDATE:20290311T030000
TZOFFSETFROM:-0500
TZOFFSETTO:-0600
TZNAME:America/Chicago CST
END:STANDARD
BEGIN:STANDARD
DTSTART:20291104T010000
RDATE:20300310T030000
TZOFFSETFROM:-0500
TZOFFSETTO:-0600
TZNAME:America/Chicago CST
END:STANDARD
BEGIN:STANDARD
DTSTART:20301103T010000
RDATE:20310309T030000
TZOFFSETFROM:-0500
TZOFFSETTO:-0600
TZNAME:America/Chicago CST
END:STANDARD
BEGIN:STANDARD
DTSTART:20311102T010000
RDATE:20320314T030000
TZOFFSETFROM:-0500
TZOFFSETTO:-0600
TZNAME:America/Chicago CST
END:STANDARD
BEGIN:DAYLIGHT
DTSTART:20250326T000000
RDATE:20251102T010000
TZOFFSETFROM:-0600
TZOFFSETTO:-0500
TZNAME:America/Chicago CDT
END:DAYLIGHT
BEGIN:DAYLIGHT
DTSTART:20260308T030000
RDATE:20261101T010000
TZOFFSETFROM:-0600
TZOFFSETTO:-0500
TZNAME:America/Chicago CDT
END:DAYLIGHT
BEGIN:DAYLIGHT
DTSTART:20270314T030000
RDATE:20271107T010000
TZOFFSETFROM:-0600
TZOFFSETTO:-0500
TZNAME:America/Chicago CDT
END:DAYLIGHT
BEGIN:DAYLIGHT
DTSTART:20280312T030000
RDATE:20281105T010000
TZOFFSETFROM:-0600
TZOFFSETTO:-0500
TZNAME:America/Chicago CDT
END:DAYLIGHT
BEGIN:DAYLIGHT
DTSTART:20290311T030000
RDATE:20291104T010000
TZOFFSETFROM:-0600
TZOFFSETTO:-0500
TZNAME:America/Chicago CDT
END:DAYLIGHT
BEGIN:DAYLIGHT
DTSTART:20300310T030000
RDATE:20301103T010000
TZOFFSETFROM:-0600
TZOFFSETTO:-0500
TZNAME:America/Chicago CDT
END:DAYLIGHT
BEGIN:DAYLIGHT
DTSTART:20310309T030000
RDATE:20311102T010000
TZOFFSETFROM:-0600
TZOFFSETTO:-0500
TZNAME:America/Chicago CDT
END:DAYLIGHT
END:VTIMEZONE
BEGIN:VEVENT
UID:86dfbc9a9edd0e159ce1ac76f7ca1e21
CATEGORIES:Local Shows
CREATED:20260109T115934
SUMMARY:OH Spring Fling
LOCATION:Springfield\, OH
DESCRIPTION:Name of Show: Spring Fling\nShow Host: PtHA® of Ohio (https://www.ohiopinto
 .net)\nShow Location: Champion Center, 4122 Laybourne Rd, Springfield, OH\n
 Show Manager: Kaylee Clagett, 419-656-5669, diamondkfarms20@gmail.com (mail
 to:diamondkfarms20@gmail.com) \nShow Secretary: Emily Wolery, 419-656-0050,
  ewolery05@gmail.com (mailto:ewolery05@gmail.com) \nRegistries: Color &amp;
  Solid\nClassifications: Horse, Pony, Mini\nJudges: Nell Tekampe, Brian Isb
 ell-Garcia, Daren Wright, &amp; Jennifer Wahr\nApproval Status: APPROVED\n
X-ALT-DESC;FMTTYPE=text/html:<p>Name of Show: Spring Fling<br />Show Host:&nbsp;<a href="https://www.ohi
 opinto.net">PtHA® of Ohio</a><br />Show Location: Champion Center, 4122 Lay
 bourne Rd, Springfield, OH<br />Show Manager: Kaylee Clagett, 419-656-5669,
 &nbsp;<a href="mailto:diamondkfarms20@gmail.com">diamondkfarms20@gmail.com<
 /a>&nbsp;<br />Show Secretary: Emily Wolery, 419-656-0050,&nbsp;<a href="ma
 ilto:ewolery05@gmail.com">ewolery05@gmail.com</a>&nbsp;<br />Registries: Co
 lor &amp; Solid<br />Classifications: Horse, Pony, Mini<br />Judges: Nell T
 ekampe, Brian Isbell-Garcia, Daren Wright, &amp; Jennifer Wahr<br />Approva
 l Status: APPROVED</p>
X-EXTRAINFO:Registries: Color &amp; Solid\nClassifications: Horse, Pony, Mini
DTSTAMP:20260424T074407
DTSTART;TZID=America/Chicago;VALUE=DATE:20260327
DTEND;TZID=America/Chicago;VALUE=DATE:20260330
SEQUENCE:0
TRANSP:OPAQUE
END:VEVENT
END:VCALENDAR