BEGIN:VCALENDAR
VERSION:2.0
PRODID:-//jEvents 2.0 for Joomla//EN
CALSCALE:GREGORIAN
METHOD:PUBLISH
BEGIN:VTIMEZONE
TZID:America/Chicago
BEGIN:STANDARD
DTSTART:20251102T010000
RDATE:20260308T030000
TZOFFSETFROM:-0500
TZOFFSETTO:-0600
TZNAME:America/Chicago CST
END:STANDARD
BEGIN:STANDARD
DTSTART:20261101T010000
RDATE:20270314T030000
TZOFFSETFROM:-0500
TZOFFSETTO:-0600
TZNAME:America/Chicago CST
END:STANDARD
BEGIN:STANDARD
DTSTART:20271107T010000
RDATE:20280312T030000
TZOFFSETFROM:-0500
TZOFFSETTO:-0600
TZNAME:America/Chicago CST
END:STANDARD
BEGIN:STANDARD
DTSTART:20281105T010000
RDATE:20290311T030000
TZOFFSETFROM:-0500
TZOFFSETTO:-0600
TZNAME:America/Chicago CST
END:STANDARD
BEGIN:STANDARD
DTSTART:20291104T010000
RDATE:20300310T030000
TZOFFSETFROM:-0500
TZOFFSETTO:-0600
TZNAME:America/Chicago CST
END:STANDARD
BEGIN:STANDARD
DTSTART:20301103T010000
RDATE:20310309T030000
TZOFFSETFROM:-0500
TZOFFSETTO:-0600
TZNAME:America/Chicago CST
END:STANDARD
BEGIN:STANDARD
DTSTART:20311102T010000
RDATE:20320314T030000
TZOFFSETFROM:-0500
TZOFFSETTO:-0600
TZNAME:America/Chicago CST
END:STANDARD
BEGIN:DAYLIGHT
DTSTART:20250313T000000
RDATE:20251102T010000
TZOFFSETFROM:-0600
TZOFFSETTO:-0500
TZNAME:America/Chicago CDT
END:DAYLIGHT
BEGIN:DAYLIGHT
DTSTART:20260308T030000
RDATE:20261101T010000
TZOFFSETFROM:-0600
TZOFFSETTO:-0500
TZNAME:America/Chicago CDT
END:DAYLIGHT
BEGIN:DAYLIGHT
DTSTART:20270314T030000
RDATE:20271107T010000
TZOFFSETFROM:-0600
TZOFFSETTO:-0500
TZNAME:America/Chicago CDT
END:DAYLIGHT
BEGIN:DAYLIGHT
DTSTART:20280312T030000
RDATE:20281105T010000
TZOFFSETFROM:-0600
TZOFFSETTO:-0500
TZNAME:America/Chicago CDT
END:DAYLIGHT
BEGIN:DAYLIGHT
DTSTART:20290311T030000
RDATE:20291104T010000
TZOFFSETFROM:-0600
TZOFFSETTO:-0500
TZNAME:America/Chicago CDT
END:DAYLIGHT
BEGIN:DAYLIGHT
DTSTART:20300310T030000
RDATE:20301103T010000
TZOFFSETFROM:-0600
TZOFFSETTO:-0500
TZNAME:America/Chicago CDT
END:DAYLIGHT
BEGIN:DAYLIGHT
DTSTART:20310309T030000
RDATE:20311102T010000
TZOFFSETFROM:-0600
TZOFFSETTO:-0500
TZNAME:America/Chicago CDT
END:DAYLIGHT
END:VTIMEZONE
BEGIN:VEVENT
UID:a15d2380da3fbdb027e246576e352cf3
CATEGORIES:Local Shows
CREATED:20260109T120119
SUMMARY:TN The Jimmy Harrison Memorial 
LOCATION:Murfreesboro TN
DESCRIPTION:<p>Name of Show: The Jimmy Harrison Memorial Show<br />Show Host:&nbsp;<a h
 ref="https://www.volunteerstatepintoorg.com">Volunteer State Pinto Organiza
 tion</a><br />Show Location: TN Miller Coliseum, 304 W Thompson Lane, Murfr
 eesboro TN<br />Show Manager: Linda Krieg, 615-653-7157<br />Show Secretary
 : Carmen Lay, 615-796-1572<br />Registries: Color &amp; Solid<br />Classifi
 cations: Horse, Mini, &amp; Pony<br />Judges: Tim Jedra, Sherry Haynes, San
 dra Curl, &amp; Susan Robinson<br />Approval Status: PENDING</p>
X-EXTRAINFO:Registries: Color &amp; Solid\nClassifications: Horse, Mini, &amp; Pony
DTSTAMP:20260422T081736
DTSTART;TZID=America/Chicago;VALUE=DATE:20260314
DTEND;TZID=America/Chicago;VALUE=DATE:20260316
SEQUENCE:0
TRANSP:OPAQUE
END:VEVENT
END:VCALENDAR