BEGIN:VCALENDAR
VERSION:2.0
PRODID:-//jEvents 2.0 for Joomla//EN
CALSCALE:GREGORIAN
METHOD:PUBLISH
BEGIN:VTIMEZONE
TZID:America/Chicago
BEGIN:STANDARD
DTSTART:20251102T010000
RDATE:20260308T030000
TZOFFSETFROM:-0500
TZOFFSETTO:-0600
TZNAME:America/Chicago CST
END:STANDARD
BEGIN:STANDARD
DTSTART:20261101T010000
RDATE:20270314T030000
TZOFFSETFROM:-0500
TZOFFSETTO:-0600
TZNAME:America/Chicago CST
END:STANDARD
BEGIN:STANDARD
DTSTART:20271107T010000
RDATE:20280312T030000
TZOFFSETFROM:-0500
TZOFFSETTO:-0600
TZNAME:America/Chicago CST
END:STANDARD
BEGIN:STANDARD
DTSTART:20281105T010000
RDATE:20290311T030000
TZOFFSETFROM:-0500
TZOFFSETTO:-0600
TZNAME:America/Chicago CST
END:STANDARD
BEGIN:STANDARD
DTSTART:20291104T010000
RDATE:20300310T030000
TZOFFSETFROM:-0500
TZOFFSETTO:-0600
TZNAME:America/Chicago CST
END:STANDARD
BEGIN:STANDARD
DTSTART:20301103T010000
RDATE:20310309T030000
TZOFFSETFROM:-0500
TZOFFSETTO:-0600
TZNAME:America/Chicago CST
END:STANDARD
BEGIN:STANDARD
DTSTART:20311102T010000
RDATE:20320314T030000
TZOFFSETFROM:-0500
TZOFFSETTO:-0600
TZNAME:America/Chicago CST
END:STANDARD
BEGIN:DAYLIGHT
DTSTART:20250417T000000
RDATE:20251102T010000
TZOFFSETFROM:-0600
TZOFFSETTO:-0500
TZNAME:America/Chicago CDT
END:DAYLIGHT
BEGIN:DAYLIGHT
DTSTART:20260308T030000
RDATE:20261101T010000
TZOFFSETFROM:-0600
TZOFFSETTO:-0500
TZNAME:America/Chicago CDT
END:DAYLIGHT
BEGIN:DAYLIGHT
DTSTART:20270314T030000
RDATE:20271107T010000
TZOFFSETFROM:-0600
TZOFFSETTO:-0500
TZNAME:America/Chicago CDT
END:DAYLIGHT
BEGIN:DAYLIGHT
DTSTART:20280312T030000
RDATE:20281105T010000
TZOFFSETFROM:-0600
TZOFFSETTO:-0500
TZNAME:America/Chicago CDT
END:DAYLIGHT
BEGIN:DAYLIGHT
DTSTART:20290311T030000
RDATE:20291104T010000
TZOFFSETFROM:-0600
TZOFFSETTO:-0500
TZNAME:America/Chicago CDT
END:DAYLIGHT
BEGIN:DAYLIGHT
DTSTART:20300310T030000
RDATE:20301103T010000
TZOFFSETFROM:-0600
TZOFFSETTO:-0500
TZNAME:America/Chicago CDT
END:DAYLIGHT
BEGIN:DAYLIGHT
DTSTART:20310309T030000
RDATE:20311102T010000
TZOFFSETFROM:-0600
TZOFFSETTO:-0500
TZNAME:America/Chicago CDT
END:DAYLIGHT
END:VTIMEZONE
BEGIN:VEVENT
UID:28b811bed82dfe342d4c316b6c03bd46
CATEGORIES:Local Shows
CREATED:20260109T124154
SUMMARY:IL Spring Fling POR
DESCRIPTION:Name of Show: Spring Fling\nShow Host: Illinois Paint Horse Club\nShow Loca
 tion: Gordyville USA, 2205 CR 3000 N, Gifford, IL 61847\nShow Manager: Elle
 n Beguelin, 309-337-9787, embeguelin@gmail.com \nShow Secretary: Shelly Pre
 hoda, 309-830-4819, shellyprehoda62@gmail.com (mailto:shellyprehoda62@gmail
 .com) \nRegistries: Color &amp; Solid\nClassifications: Horse\nJudges: Mani
 ta Defoor, Jamie Gross, Doug Lasota, Leigh Ann Skurupey\nApproval Status: A
 PPROVED\n
X-ALT-DESC;FMTTYPE=text/html:<p>Name of Show: Spring Fling<br />Show Host: Illinois Paint Horse Club<br 
 />Show Location: Gordyville USA, 2205 CR 3000 N, Gifford, IL 61847<br />Sho
 w Manager: Ellen Beguelin, 309-337-9787, embeguelin@gmail.com&nbsp;<br />Sh
 ow Secretary: Shelly Prehoda, 309-830-4819,&nbsp;<a href="mailto:shellypreh
 oda62@gmail.com">shellyprehoda62@gmail.com</a>&nbsp;<br />Registries: Color
  &amp; Solid<br />Classifications: Horse<br />Judges:&nbsp;Manita Defoor, J
 amie Gross, Doug Lasota, Leigh Ann Skurupey<br />Approval Status: APPROVED<
 /p>
X-EXTRAINFO:Registries: Color &amp; Solid\nClassifications: Horse
DTSTAMP:20260420T090706
DTSTART;TZID=America/Chicago;VALUE=DATE:20260418
DTEND;TZID=America/Chicago;VALUE=DATE:20260420
SEQUENCE:0
TRANSP:OPAQUE
END:VEVENT
END:VCALENDAR