BEGIN:VCALENDAR
VERSION:2.0
PRODID:-//jEvents 2.0 for Joomla//EN
CALSCALE:GREGORIAN
METHOD:PUBLISH
BEGIN:VTIMEZONE
TZID:America/Chicago
BEGIN:STANDARD
DTSTART:20251102T010000
RDATE:20260308T030000
TZOFFSETFROM:-0500
TZOFFSETTO:-0600
TZNAME:America/Chicago CST
END:STANDARD
BEGIN:STANDARD
DTSTART:20261101T010000
RDATE:20270314T030000
TZOFFSETFROM:-0500
TZOFFSETTO:-0600
TZNAME:America/Chicago CST
END:STANDARD
BEGIN:STANDARD
DTSTART:20271107T010000
RDATE:20280312T030000
TZOFFSETFROM:-0500
TZOFFSETTO:-0600
TZNAME:America/Chicago CST
END:STANDARD
BEGIN:STANDARD
DTSTART:20281105T010000
RDATE:20290311T030000
TZOFFSETFROM:-0500
TZOFFSETTO:-0600
TZNAME:America/Chicago CST
END:STANDARD
BEGIN:STANDARD
DTSTART:20291104T010000
RDATE:20300310T030000
TZOFFSETFROM:-0500
TZOFFSETTO:-0600
TZNAME:America/Chicago CST
END:STANDARD
BEGIN:STANDARD
DTSTART:20301103T010000
RDATE:20310309T030000
TZOFFSETFROM:-0500
TZOFFSETTO:-0600
TZNAME:America/Chicago CST
END:STANDARD
BEGIN:STANDARD
DTSTART:20311102T010000
RDATE:20320314T030000
TZOFFSETFROM:-0500
TZOFFSETTO:-0600
TZNAME:America/Chicago CST
END:STANDARD
BEGIN:DAYLIGHT
DTSTART:20250424T000000
RDATE:20251102T010000
TZOFFSETFROM:-0600
TZOFFSETTO:-0500
TZNAME:America/Chicago CDT
END:DAYLIGHT
BEGIN:DAYLIGHT
DTSTART:20260308T030000
RDATE:20261101T010000
TZOFFSETFROM:-0600
TZOFFSETTO:-0500
TZNAME:America/Chicago CDT
END:DAYLIGHT
BEGIN:DAYLIGHT
DTSTART:20270314T030000
RDATE:20271107T010000
TZOFFSETFROM:-0600
TZOFFSETTO:-0500
TZNAME:America/Chicago CDT
END:DAYLIGHT
BEGIN:DAYLIGHT
DTSTART:20280312T030000
RDATE:20281105T010000
TZOFFSETFROM:-0600
TZOFFSETTO:-0500
TZNAME:America/Chicago CDT
END:DAYLIGHT
BEGIN:DAYLIGHT
DTSTART:20290311T030000
RDATE:20291104T010000
TZOFFSETFROM:-0600
TZOFFSETTO:-0500
TZNAME:America/Chicago CDT
END:DAYLIGHT
BEGIN:DAYLIGHT
DTSTART:20300310T030000
RDATE:20301103T010000
TZOFFSETFROM:-0600
TZOFFSETTO:-0500
TZNAME:America/Chicago CDT
END:DAYLIGHT
BEGIN:DAYLIGHT
DTSTART:20310309T030000
RDATE:20311102T010000
TZOFFSETFROM:-0600
TZOFFSETTO:-0500
TZNAME:America/Chicago CDT
END:DAYLIGHT
END:VTIMEZONE
BEGIN:VEVENT
UID:f3f6281f5f35f9feddec713b5c7d15c1
CATEGORIES:Local Shows
CREATED:20260109T125414
SUMMARY:TN Springtime Spectacular
LOCATION:Murfreesboro TN
DESCRIPTION:Name of Show: Springtime Spectacular\nShow Host: Volunteer State Pinto Orga
 nization (https://www.volunteerstatepintoorg.com)\nShow Location: TN Miller
  Coliseum, 304 W Thompson Lane, Murfreesboro TN\nShow Manager: Linda Krieg,
  615-653-7157\nShow Secretary: Carmen Lay, 615-796-1572\nRegistries: Color 
 &amp; Solid\nClassifications: Horse, Mini, &amp; Pony\nJudges: Mason Lyon, 
 Daren Wright, Dawnn Taylor, &amp; Teresa Pelton\nApproval Status: PENDING\n
X-ALT-DESC;FMTTYPE=text/html:<p>Name of Show: Springtime Spectacular<br />Show Host:&nbsp;<a href="https
 ://www.volunteerstatepintoorg.com">Volunteer State Pinto Organization</a><b
 r />Show Location: TN Miller Coliseum, 304 W Thompson Lane, Murfreesboro TN
 <br />Show Manager: Linda Krieg, 615-653-7157<br />Show Secretary: Carmen L
 ay, 615-796-1572<br />Registries: Color &amp; Solid<br />Classifications: H
 orse, Mini, &amp; Pony<br />Judges: Mason Lyon, Daren Wright, Dawnn Taylor,
  &amp; Teresa Pelton<br />Approval Status: PENDING</p>
X-EXTRAINFO:Registries: Color &amp; Solid\nClassifications: Horse, Mini, &amp; Pony
DTSTAMP:20260420T104432
DTSTART;TZID=America/Chicago;VALUE=DATE:20260425
DTEND;TZID=America/Chicago;VALUE=DATE:20260427
SEQUENCE:0
TRANSP:OPAQUE
END:VEVENT
END:VCALENDAR