BEGIN:VCALENDAR
VERSION:2.0
PRODID:-//jEvents 2.0 for Joomla//EN
CALSCALE:GREGORIAN
METHOD:PUBLISH
BEGIN:VTIMEZONE
TZID:America/Chicago
BEGIN:STANDARD
DTSTART:20251102T010000
RDATE:20260308T030000
TZOFFSETFROM:-0500
TZOFFSETTO:-0600
TZNAME:America/Chicago CST
END:STANDARD
BEGIN:STANDARD
DTSTART:20261101T010000
RDATE:20270314T030000
TZOFFSETFROM:-0500
TZOFFSETTO:-0600
TZNAME:America/Chicago CST
END:STANDARD
BEGIN:STANDARD
DTSTART:20271107T010000
RDATE:20280312T030000
TZOFFSETFROM:-0500
TZOFFSETTO:-0600
TZNAME:America/Chicago CST
END:STANDARD
BEGIN:STANDARD
DTSTART:20281105T010000
RDATE:20290311T030000
TZOFFSETFROM:-0500
TZOFFSETTO:-0600
TZNAME:America/Chicago CST
END:STANDARD
BEGIN:STANDARD
DTSTART:20291104T010000
RDATE:20300310T030000
TZOFFSETFROM:-0500
TZOFFSETTO:-0600
TZNAME:America/Chicago CST
END:STANDARD
BEGIN:STANDARD
DTSTART:20301103T010000
RDATE:20310309T030000
TZOFFSETFROM:-0500
TZOFFSETTO:-0600
TZNAME:America/Chicago CST
END:STANDARD
BEGIN:STANDARD
DTSTART:20311102T010000
RDATE:20320314T030000
TZOFFSETFROM:-0500
TZOFFSETTO:-0600
TZNAME:America/Chicago CST
END:STANDARD
BEGIN:DAYLIGHT
DTSTART:20250423T000000
RDATE:20251102T010000
TZOFFSETFROM:-0600
TZOFFSETTO:-0500
TZNAME:America/Chicago CDT
END:DAYLIGHT
BEGIN:DAYLIGHT
DTSTART:20260308T030000
RDATE:20261101T010000
TZOFFSETFROM:-0600
TZOFFSETTO:-0500
TZNAME:America/Chicago CDT
END:DAYLIGHT
BEGIN:DAYLIGHT
DTSTART:20270314T030000
RDATE:20271107T010000
TZOFFSETFROM:-0600
TZOFFSETTO:-0500
TZNAME:America/Chicago CDT
END:DAYLIGHT
BEGIN:DAYLIGHT
DTSTART:20280312T030000
RDATE:20281105T010000
TZOFFSETFROM:-0600
TZOFFSETTO:-0500
TZNAME:America/Chicago CDT
END:DAYLIGHT
BEGIN:DAYLIGHT
DTSTART:20290311T030000
RDATE:20291104T010000
TZOFFSETFROM:-0600
TZOFFSETTO:-0500
TZNAME:America/Chicago CDT
END:DAYLIGHT
BEGIN:DAYLIGHT
DTSTART:20300310T030000
RDATE:20301103T010000
TZOFFSETFROM:-0600
TZOFFSETTO:-0500
TZNAME:America/Chicago CDT
END:DAYLIGHT
BEGIN:DAYLIGHT
DTSTART:20310309T030000
RDATE:20311102T010000
TZOFFSETFROM:-0600
TZOFFSETTO:-0500
TZNAME:America/Chicago CDT
END:DAYLIGHT
END:VTIMEZONE
BEGIN:VEVENT
UID:479e3212726d671b6978c102533db1bf
CATEGORIES:Local Shows
CREATED:20260109T125712
SUMMARY:MI Spring Kick-Off
LOCATION:Corunna\, MI
DESCRIPTION:Name of Show: Spring Kick-Off\nShow Host: Michigan State Pinto Breeders &am
 p; Owners (https://www.michiganpinto.org)\nShow Location: Ingham Country Fa
 irgrounds, 700 E Ash St, Mason, MI\nShow Manager: Jamie Stohlman, 248-521-9
 405, longtrotting1@gmail.com \nShow Secretary: Emily Wolery, 419-656-0050, 
 ewolery05@gmail.com (mailto:ewolery05@gmail.com)\nRegistries: Color &amp; S
 olid\nClassifications: Horse, Mini, Pony\nJudges: Cynthia Wright, Margaret 
 Morgan, Tim Abler, &amp; Todd Foltz\nApproval Status: APPROVED\n
X-ALT-DESC;FMTTYPE=text/html:<p>Name of Show: Spring Kick-Off<br />Show Host:&nbsp;<a href="https://www.
 michiganpinto.org">Michigan State Pinto Breeders &amp; Owners</a><br />Show
  Location:&nbsp;Ingham Country Fairgrounds, 700 E Ash St, Mason, MI<br />Sh
 ow Manager: Jamie Stohlman, 248-521-9405,&nbsp;<a href="mailto:longtrotting
 1@gmail.com">longtrotting1@gmail.com</a>&nbsp;<br />Show Secretary: Emily W
 olery, 419-656-0050, <a href="mailto:ewolery05@gmail.com">ewolery05@gmail.c
 om</a><br />Registries: Color &amp; Solid<br />Classifications: Horse, Mini
 , Pony<br />Judges: Cynthia Wright, Margaret Morgan, Tim Abler, &amp; Todd 
 Foltz<br />Approval Status: APPROVED</p>
X-EXTRAINFO:Registries: Color &amp; Solid\nClassifications: Horse, Mini, Pony
DTSTAMP:20260420T120630
DTSTART;TZID=America/Chicago;VALUE=DATE:20260424
DTEND;TZID=America/Chicago;VALUE=DATE:20260427
SEQUENCE:0
TRANSP:OPAQUE
END:VEVENT
END:VCALENDAR