BEGIN:VCALENDAR
VERSION:2.0
PRODID:-//jEvents 2.0 for Joomla//EN
CALSCALE:GREGORIAN
METHOD:PUBLISH
BEGIN:VTIMEZONE
TZID:America/Chicago
BEGIN:STANDARD
DTSTART:20251102T010000
RDATE:20260308T030000
TZOFFSETFROM:-0500
TZOFFSETTO:-0600
TZNAME:America/Chicago CST
END:STANDARD
BEGIN:STANDARD
DTSTART:20261101T010000
RDATE:20270314T030000
TZOFFSETFROM:-0500
TZOFFSETTO:-0600
TZNAME:America/Chicago CST
END:STANDARD
BEGIN:STANDARD
DTSTART:20271107T010000
RDATE:20280312T030000
TZOFFSETFROM:-0500
TZOFFSETTO:-0600
TZNAME:America/Chicago CST
END:STANDARD
BEGIN:STANDARD
DTSTART:20281105T010000
RDATE:20290311T030000
TZOFFSETFROM:-0500
TZOFFSETTO:-0600
TZNAME:America/Chicago CST
END:STANDARD
BEGIN:STANDARD
DTSTART:20291104T010000
RDATE:20300310T030000
TZOFFSETFROM:-0500
TZOFFSETTO:-0600
TZNAME:America/Chicago CST
END:STANDARD
BEGIN:STANDARD
DTSTART:20301103T010000
RDATE:20310309T030000
TZOFFSETFROM:-0500
TZOFFSETTO:-0600
TZNAME:America/Chicago CST
END:STANDARD
BEGIN:STANDARD
DTSTART:20311102T010000
RDATE:20320314T030000
TZOFFSETFROM:-0500
TZOFFSETTO:-0600
TZNAME:America/Chicago CST
END:STANDARD
BEGIN:DAYLIGHT
DTSTART:20250509T000000
RDATE:20251102T010000
TZOFFSETFROM:-0600
TZOFFSETTO:-0500
TZNAME:America/Chicago CDT
END:DAYLIGHT
BEGIN:DAYLIGHT
DTSTART:20260308T030000
RDATE:20261101T010000
TZOFFSETFROM:-0600
TZOFFSETTO:-0500
TZNAME:America/Chicago CDT
END:DAYLIGHT
BEGIN:DAYLIGHT
DTSTART:20270314T030000
RDATE:20271107T010000
TZOFFSETFROM:-0600
TZOFFSETTO:-0500
TZNAME:America/Chicago CDT
END:DAYLIGHT
BEGIN:DAYLIGHT
DTSTART:20280312T030000
RDATE:20281105T010000
TZOFFSETFROM:-0600
TZOFFSETTO:-0500
TZNAME:America/Chicago CDT
END:DAYLIGHT
BEGIN:DAYLIGHT
DTSTART:20290311T030000
RDATE:20291104T010000
TZOFFSETFROM:-0600
TZOFFSETTO:-0500
TZNAME:America/Chicago CDT
END:DAYLIGHT
BEGIN:DAYLIGHT
DTSTART:20300310T030000
RDATE:20301103T010000
TZOFFSETFROM:-0600
TZOFFSETTO:-0500
TZNAME:America/Chicago CDT
END:DAYLIGHT
BEGIN:DAYLIGHT
DTSTART:20310309T030000
RDATE:20311102T010000
TZOFFSETFROM:-0600
TZOFFSETTO:-0500
TZNAME:America/Chicago CDT
END:DAYLIGHT
END:VTIMEZONE
BEGIN:VEVENT
UID:b39f77b7a74fd43105e20ea8ec2d77d1
CATEGORIES:Local Shows
CREATED:20260109T125957
SUMMARY:CA High Desert Mothers Day Show
LOCATION:Chino Hills\, CA
DESCRIPTION:Name of Show: Mothers Day Show\nShow Host: High Desert PtHA® \nShow Locatio
 n: McCoy Equestrian Center, 14280 Peyton Dr, Chino Hills, CA\nShow Manager:
  Fral Lelli, 951-849-3031, flelli@dcc.rr.com (mailto:flelli@dcc.rr.com) \nS
 how Secretary: Sheila Shiffert, 909-938-5098, sheila.shiffert@gmail.com (ma
 ilto:sheila.shiffert@gmail.com) \nRegistries: Color &amp; Solid\nClassifica
 tions: Pony, Mini\nJudges: Kathy Callahan Smith &amp; Sheri Odom\nApproval 
 Status: APPROVED\n
X-ALT-DESC;FMTTYPE=text/html:<p>Name of Show:&nbsp;Mothers Day Show<br />Show Host: High Desert PtHA®&nb
 sp;<br />Show Location: McCoy Equestrian Center, 14280 Peyton Dr, Chino Hil
 ls, CA<br />Show Manager: Fral Lelli, 951-849-3031,&nbsp;<a href="mailto:fl
 elli@dcc.rr.com">flelli@dcc.rr.com</a>&nbsp;<br />Show Secretary: Sheila Sh
 iffert, 909-938-5098,&nbsp;<a href="mailto:sheila.shiffert@gmail.com">sheil
 a.shiffert@gmail.com</a>&nbsp;<br />Registries: Color &amp; Solid<br />Clas
 sifications: Pony, Mini<br />Judges: Kathy Callahan Smith &amp; Sheri Odom<
 br />Approval Status: APPROVED</p>
X-EXTRAINFO:Registries: Color &amp; Solid\nClassifications: Pony, Mini
DTSTAMP:20260424T101012
DTSTART;TZID=America/Chicago;VALUE=DATE:20260510
DTEND;TZID=America/Chicago;VALUE=DATE:20260511
SEQUENCE:0
TRANSP:OPAQUE
END:VEVENT
END:VCALENDAR