BEGIN:VCALENDAR
VERSION:2.0
PRODID:-//jEvents 2.0 for Joomla//EN
CALSCALE:GREGORIAN
METHOD:PUBLISH
BEGIN:VTIMEZONE
TZID:America/Chicago
BEGIN:STANDARD
DTSTART:20251102T010000
RDATE:20260308T030000
TZOFFSETFROM:-0500
TZOFFSETTO:-0600
TZNAME:America/Chicago CST
END:STANDARD
BEGIN:STANDARD
DTSTART:20261101T010000
RDATE:20270314T030000
TZOFFSETFROM:-0500
TZOFFSETTO:-0600
TZNAME:America/Chicago CST
END:STANDARD
BEGIN:STANDARD
DTSTART:20271107T010000
RDATE:20280312T030000
TZOFFSETFROM:-0500
TZOFFSETTO:-0600
TZNAME:America/Chicago CST
END:STANDARD
BEGIN:STANDARD
DTSTART:20281105T010000
RDATE:20290311T030000
TZOFFSETFROM:-0500
TZOFFSETTO:-0600
TZNAME:America/Chicago CST
END:STANDARD
BEGIN:STANDARD
DTSTART:20291104T010000
RDATE:20300310T030000
TZOFFSETFROM:-0500
TZOFFSETTO:-0600
TZNAME:America/Chicago CST
END:STANDARD
BEGIN:STANDARD
DTSTART:20301103T010000
RDATE:20310309T030000
TZOFFSETFROM:-0500
TZOFFSETTO:-0600
TZNAME:America/Chicago CST
END:STANDARD
BEGIN:STANDARD
DTSTART:20311102T010000
RDATE:20320314T030000
TZOFFSETFROM:-0500
TZOFFSETTO:-0600
TZNAME:America/Chicago CST
END:STANDARD
BEGIN:DAYLIGHT
DTSTART:20250508T000000
RDATE:20251102T010000
TZOFFSETFROM:-0600
TZOFFSETTO:-0500
TZNAME:America/Chicago CDT
END:DAYLIGHT
BEGIN:DAYLIGHT
DTSTART:20260308T030000
RDATE:20261101T010000
TZOFFSETFROM:-0600
TZOFFSETTO:-0500
TZNAME:America/Chicago CDT
END:DAYLIGHT
BEGIN:DAYLIGHT
DTSTART:20270314T030000
RDATE:20271107T010000
TZOFFSETFROM:-0600
TZOFFSETTO:-0500
TZNAME:America/Chicago CDT
END:DAYLIGHT
BEGIN:DAYLIGHT
DTSTART:20280312T030000
RDATE:20281105T010000
TZOFFSETFROM:-0600
TZOFFSETTO:-0500
TZNAME:America/Chicago CDT
END:DAYLIGHT
BEGIN:DAYLIGHT
DTSTART:20290311T030000
RDATE:20291104T010000
TZOFFSETFROM:-0600
TZOFFSETTO:-0500
TZNAME:America/Chicago CDT
END:DAYLIGHT
BEGIN:DAYLIGHT
DTSTART:20300310T030000
RDATE:20301103T010000
TZOFFSETFROM:-0600
TZOFFSETTO:-0500
TZNAME:America/Chicago CDT
END:DAYLIGHT
BEGIN:DAYLIGHT
DTSTART:20310309T030000
RDATE:20311102T010000
TZOFFSETFROM:-0600
TZOFFSETTO:-0500
TZNAME:America/Chicago CDT
END:DAYLIGHT
END:VTIMEZONE
BEGIN:VEVENT
UID:0a38a0f6580d09ac44420c577902ba5d
CATEGORIES:Local Shows
CREATED:20260109T130321
SUMMARY:KS Area VI Mini & Pony Show #1
LOCATION:Salina\, KS
DESCRIPTION:Name of Show: Area VI SP &amp; MHBA Club Show #1 \nShow Host: Area VI SP &a
 mp; MHBA Club\nShow Location: Saline County Livestock &amp; Expo Center, 90
 0 Greenley Ave, Salina, KS\nShow Manager &amp; Secretary: Heather Franklin,
  785-539-0423, cowdog911@yahoo.com\nRegistries: Color\nClassifications: Min
 i, Pony\nJudges: Teresa Palmer-Visser &amp; Jean Hommel-Kessler\nApproval S
 tatus: APPROVED\n
X-ALT-DESC;FMTTYPE=text/html:<p>Name of Show: Area VI SP &amp; MHBA Club Show #1&nbsp;<br />Show Host:&n
 bsp;Area VI SP &amp; MHBA Club<br />Show Location: Saline County Livestock 
 &amp; Expo Center, 900 Greenley Ave, Salina, KS<br />Show Manager &amp; Sec
 retary: Heather Franklin, 785-539-0423, <a href="mailto:cowdog911@yahoo.com
 ">cowdog911@yahoo.com</a><br />Registries: Color<br />Classifications: Mini
 , Pony<br />Judges: Teresa Palmer-Visser &amp; Jean Hommel-Kessler<br />App
 roval Status: APPROVED</p>
X-EXTRAINFO:Registries: Color\nClassifications: Mini, Pony
DTSTAMP:20260424T105156
DTSTART;TZID=America/Chicago;VALUE=DATE:20260509
DTEND;TZID=America/Chicago;VALUE=DATE:20260510
SEQUENCE:0
TRANSP:OPAQUE
END:VEVENT
END:VCALENDAR