BEGIN:VCALENDAR
VERSION:2.0
PRODID:-//jEvents 2.0 for Joomla//EN
CALSCALE:GREGORIAN
METHOD:PUBLISH
BEGIN:VTIMEZONE
TZID:America/Chicago
BEGIN:STANDARD
DTSTART:20251102T010000
RDATE:20260308T030000
TZOFFSETFROM:-0500
TZOFFSETTO:-0600
TZNAME:America/Chicago CST
END:STANDARD
BEGIN:STANDARD
DTSTART:20261101T010000
RDATE:20270314T030000
TZOFFSETFROM:-0500
TZOFFSETTO:-0600
TZNAME:America/Chicago CST
END:STANDARD
BEGIN:STANDARD
DTSTART:20271107T010000
RDATE:20280312T030000
TZOFFSETFROM:-0500
TZOFFSETTO:-0600
TZNAME:America/Chicago CST
END:STANDARD
BEGIN:STANDARD
DTSTART:20281105T010000
RDATE:20290311T030000
TZOFFSETFROM:-0500
TZOFFSETTO:-0600
TZNAME:America/Chicago CST
END:STANDARD
BEGIN:STANDARD
DTSTART:20291104T010000
RDATE:20300310T030000
TZOFFSETFROM:-0500
TZOFFSETTO:-0600
TZNAME:America/Chicago CST
END:STANDARD
BEGIN:STANDARD
DTSTART:20301103T010000
RDATE:20310309T030000
TZOFFSETFROM:-0500
TZOFFSETTO:-0600
TZNAME:America/Chicago CST
END:STANDARD
BEGIN:STANDARD
DTSTART:20311102T010000
RDATE:20320314T030000
TZOFFSETFROM:-0500
TZOFFSETTO:-0600
TZNAME:America/Chicago CST
END:STANDARD
BEGIN:DAYLIGHT
DTSTART:20250827T000000
RDATE:20251102T010000
TZOFFSETFROM:-0600
TZOFFSETTO:-0500
TZNAME:America/Chicago CDT
END:DAYLIGHT
BEGIN:DAYLIGHT
DTSTART:20260308T030000
RDATE:20261101T010000
TZOFFSETFROM:-0600
TZOFFSETTO:-0500
TZNAME:America/Chicago CDT
END:DAYLIGHT
BEGIN:DAYLIGHT
DTSTART:20270314T030000
RDATE:20271107T010000
TZOFFSETFROM:-0600
TZOFFSETTO:-0500
TZNAME:America/Chicago CDT
END:DAYLIGHT
BEGIN:DAYLIGHT
DTSTART:20280312T030000
RDATE:20281105T010000
TZOFFSETFROM:-0600
TZOFFSETTO:-0500
TZNAME:America/Chicago CDT
END:DAYLIGHT
BEGIN:DAYLIGHT
DTSTART:20290311T030000
RDATE:20291104T010000
TZOFFSETFROM:-0600
TZOFFSETTO:-0500
TZNAME:America/Chicago CDT
END:DAYLIGHT
BEGIN:DAYLIGHT
DTSTART:20300310T030000
RDATE:20301103T010000
TZOFFSETFROM:-0600
TZOFFSETTO:-0500
TZNAME:America/Chicago CDT
END:DAYLIGHT
BEGIN:DAYLIGHT
DTSTART:20310309T030000
RDATE:20311102T010000
TZOFFSETFROM:-0600
TZOFFSETTO:-0500
TZNAME:America/Chicago CDT
END:DAYLIGHT
END:VTIMEZONE
BEGIN:VEVENT
UID:1aeeffdb5f7347e81084d355f3b21a84
CATEGORIES:Local Shows
CREATED:20260109T132727
SUMMARY:OK Dal Worth Summer Sizzler
LOCATION:Ardmore\, OK
DESCRIPTION:Name of Show: Dal Worth Spring Spectacular\nShow Host: Dal Worth ApHC\nShow
  Location: Hardy Murphy Coliseum, Ardmore, OK\nShow Manager &amp; Secretary
 : Carla Peacock, 540-840-1960, astrideapp@msn.com (mailto:astrideapp@msn.co
 m)\nRegistries: Color &amp; Solid\nClassifications: Horse\nJudges: Brian Is
 bell-Garcia, Trisha Shorten-Armstrong, Jean Hommel, &amp; Janette Dublin\nA
 pproval Status: PENDING\n
X-ALT-DESC;FMTTYPE=text/html:<p>Name of Show:&nbsp;Dal Worth Spring Spectacular<br />Show Host: Dal Wort
 h ApHC<br />Show Location: Hardy Murphy Coliseum, Ardmore, OK<br />Show Man
 ager &amp;&nbsp;Secretary: Carla Peacock, 540-840-1960, <a href="mailto:ast
 rideapp@msn.com">astrideapp@msn.com</a><br />Registries: Color &amp; Solid<
 br />Classifications: Horse<br />Judges: Brian Isbell-Garcia, Trisha Shorte
 n-Armstrong, Jean Hommel, &amp; Janette Dublin<br />Approval Status: PENDIN
 G</p>
X-EXTRAINFO:Registries: Color &amp; Solid\nClassifications: Horse
DTSTAMP:20260424T075341
DTSTART;TZID=America/Chicago;VALUE=DATE:20260828
DTEND;TZID=America/Chicago;VALUE=DATE:20260831
SEQUENCE:0
TRANSP:OPAQUE
END:VEVENT
END:VCALENDAR