BEGIN:VCALENDAR
VERSION:2.0
PRODID:-//jEvents 2.0 for Joomla//EN
CALSCALE:GREGORIAN
METHOD:PUBLISH
BEGIN:VTIMEZONE
TZID:America/Chicago
BEGIN:STANDARD
DTSTART:20251102T010000
RDATE:20260308T030000
TZOFFSETFROM:-0500
TZOFFSETTO:-0600
TZNAME:America/Chicago CST
END:STANDARD
BEGIN:STANDARD
DTSTART:20261101T010000
RDATE:20270314T030000
TZOFFSETFROM:-0500
TZOFFSETTO:-0600
TZNAME:America/Chicago CST
END:STANDARD
BEGIN:STANDARD
DTSTART:20271107T010000
RDATE:20280312T030000
TZOFFSETFROM:-0500
TZOFFSETTO:-0600
TZNAME:America/Chicago CST
END:STANDARD
BEGIN:STANDARD
DTSTART:20281105T010000
RDATE:20290311T030000
TZOFFSETFROM:-0500
TZOFFSETTO:-0600
TZNAME:America/Chicago CST
END:STANDARD
BEGIN:STANDARD
DTSTART:20291104T010000
RDATE:20300310T030000
TZOFFSETFROM:-0500
TZOFFSETTO:-0600
TZNAME:America/Chicago CST
END:STANDARD
BEGIN:STANDARD
DTSTART:20301103T010000
RDATE:20310309T030000
TZOFFSETFROM:-0500
TZOFFSETTO:-0600
TZNAME:America/Chicago CST
END:STANDARD
BEGIN:STANDARD
DTSTART:20311102T010000
RDATE:20320314T030000
TZOFFSETFROM:-0500
TZOFFSETTO:-0600
TZNAME:America/Chicago CST
END:STANDARD
BEGIN:DAYLIGHT
DTSTART:20250820T000000
RDATE:20251102T010000
TZOFFSETFROM:-0600
TZOFFSETTO:-0500
TZNAME:America/Chicago CDT
END:DAYLIGHT
BEGIN:DAYLIGHT
DTSTART:20260308T030000
RDATE:20261101T010000
TZOFFSETFROM:-0600
TZOFFSETTO:-0500
TZNAME:America/Chicago CDT
END:DAYLIGHT
BEGIN:DAYLIGHT
DTSTART:20270314T030000
RDATE:20271107T010000
TZOFFSETFROM:-0600
TZOFFSETTO:-0500
TZNAME:America/Chicago CDT
END:DAYLIGHT
BEGIN:DAYLIGHT
DTSTART:20280312T030000
RDATE:20281105T010000
TZOFFSETFROM:-0600
TZOFFSETTO:-0500
TZNAME:America/Chicago CDT
END:DAYLIGHT
BEGIN:DAYLIGHT
DTSTART:20290311T030000
RDATE:20291104T010000
TZOFFSETFROM:-0600
TZOFFSETTO:-0500
TZNAME:America/Chicago CDT
END:DAYLIGHT
BEGIN:DAYLIGHT
DTSTART:20300310T030000
RDATE:20301103T010000
TZOFFSETFROM:-0600
TZOFFSETTO:-0500
TZNAME:America/Chicago CDT
END:DAYLIGHT
BEGIN:DAYLIGHT
DTSTART:20310309T030000
RDATE:20311102T010000
TZOFFSETFROM:-0600
TZOFFSETTO:-0500
TZNAME:America/Chicago CDT
END:DAYLIGHT
END:VTIMEZONE
BEGIN:VEVENT
UID:b96c2f904ed7e5f576123e56b309df1f
CATEGORIES:Local Shows
CREATED:20260109T132830
SUMMARY:AR Show 1
LOCATION:Sheridan\, AR
DESCRIPTION:Name of Show: \nShow Host: Arkansas Pinto Associtation\nShow Location: WA A
 rena, 5690 Sheridan Bypass, Sheridan, AR\nShow Manager: Butch Watson, 479-6
 44-1930, barlquarterhorses@gmail.com (mailto:barlquarterhorses@gmail.com)\n
 Show Secretary: Dianna Watson, 479-721-3969, watsonhorseshows@gmail.com (ma
 ilto:watsonhorseshows@gmail.com)\nRegistries: Color &amp; Solid\nClassifica
 tions: Horse\nJudges: TBAk\nApproval Status: PENDING\n
X-ALT-DESC;FMTTYPE=text/html:<p>Name of Show:&nbsp;<br />Show Host: Arkansas Pinto Associtation<br />Sho
 w Location: WA Arena, 5690 Sheridan Bypass, Sheridan, AR<br />Show Manager:
  Butch Watson, 479-644-1930, <a href="mailto:barlquarterhorses@gmail.com">b
 arlquarterhorses@gmail.com</a><br />Show Secretary: Dianna Watson, 479-721-
 3969, <a href="mailto:watsonhorseshows@gmail.com">watsonhorseshows@gmail.co
 m</a><br />Registries: Color &amp; Solid<br />Classifications: Horse<br />J
 udges: TBAk<br />Approval Status: PENDING</p>
X-EXTRAINFO:Registries: Color &amp; Solid\nClassifications: Horse
DTSTAMP:20260424T092059
DTSTART;TZID=America/Chicago;VALUE=DATE:20260821
DTEND;TZID=America/Chicago;VALUE=DATE:20260824
SEQUENCE:0
TRANSP:OPAQUE
END:VEVENT
END:VCALENDAR