BEGIN:VCALENDAR
VERSION:2.0
PRODID:-//jEvents 2.0 for Joomla//EN
CALSCALE:GREGORIAN
METHOD:PUBLISH
BEGIN:VTIMEZONE
TZID:America/Chicago
BEGIN:STANDARD
DTSTART:20251102T010000
RDATE:20260308T030000
TZOFFSETFROM:-0500
TZOFFSETTO:-0600
TZNAME:America/Chicago CST
END:STANDARD
BEGIN:STANDARD
DTSTART:20261101T010000
RDATE:20270314T030000
TZOFFSETFROM:-0500
TZOFFSETTO:-0600
TZNAME:America/Chicago CST
END:STANDARD
BEGIN:STANDARD
DTSTART:20271107T010000
RDATE:20280312T030000
TZOFFSETFROM:-0500
TZOFFSETTO:-0600
TZNAME:America/Chicago CST
END:STANDARD
BEGIN:STANDARD
DTSTART:20281105T010000
RDATE:20290311T030000
TZOFFSETFROM:-0500
TZOFFSETTO:-0600
TZNAME:America/Chicago CST
END:STANDARD
BEGIN:STANDARD
DTSTART:20291104T010000
RDATE:20300310T030000
TZOFFSETFROM:-0500
TZOFFSETTO:-0600
TZNAME:America/Chicago CST
END:STANDARD
BEGIN:STANDARD
DTSTART:20301103T010000
RDATE:20310309T030000
TZOFFSETFROM:-0500
TZOFFSETTO:-0600
TZNAME:America/Chicago CST
END:STANDARD
BEGIN:STANDARD
DTSTART:20311102T010000
RDATE:20320314T030000
TZOFFSETFROM:-0500
TZOFFSETTO:-0600
TZNAME:America/Chicago CST
END:STANDARD
BEGIN:DAYLIGHT
DTSTART:20250731T000000
RDATE:20251102T010000
TZOFFSETFROM:-0600
TZOFFSETTO:-0500
TZNAME:America/Chicago CDT
END:DAYLIGHT
BEGIN:DAYLIGHT
DTSTART:20260308T030000
RDATE:20261101T010000
TZOFFSETFROM:-0600
TZOFFSETTO:-0500
TZNAME:America/Chicago CDT
END:DAYLIGHT
BEGIN:DAYLIGHT
DTSTART:20270314T030000
RDATE:20271107T010000
TZOFFSETFROM:-0600
TZOFFSETTO:-0500
TZNAME:America/Chicago CDT
END:DAYLIGHT
BEGIN:DAYLIGHT
DTSTART:20280312T030000
RDATE:20281105T010000
TZOFFSETFROM:-0600
TZOFFSETTO:-0500
TZNAME:America/Chicago CDT
END:DAYLIGHT
BEGIN:DAYLIGHT
DTSTART:20290311T030000
RDATE:20291104T010000
TZOFFSETFROM:-0600
TZOFFSETTO:-0500
TZNAME:America/Chicago CDT
END:DAYLIGHT
BEGIN:DAYLIGHT
DTSTART:20300310T030000
RDATE:20301103T010000
TZOFFSETFROM:-0600
TZOFFSETTO:-0500
TZNAME:America/Chicago CDT
END:DAYLIGHT
BEGIN:DAYLIGHT
DTSTART:20310309T030000
RDATE:20311102T010000
TZOFFSETFROM:-0600
TZOFFSETTO:-0500
TZNAME:America/Chicago CDT
END:DAYLIGHT
END:VTIMEZONE
BEGIN:VEVENT
UID:6d60fed0545a95c63529da68c68ed2ea
CATEGORIES:Local Shows
CREATED:20260109T133023
SUMMARY:IN Summer Horse Show
LOCATION:New Castle\, IN
DESCRIPTION:Name of Show: Summer Horse Show\nShow Host: Indiana PtHA®\nShow Location: H
 enry Co Saddle Club, 2221 N Memorial Dr, New Castle, IN\nShow Manager: Wyne
 ta Duncan, 317-462-9224, wsrduncan@aol.com (mailto:wsrduncan@aol.com) \nSho
 w Secretary: Becki Meek, 812-603-4786, meekbecki@yahoo.com (mailto:meekbeck
 i@yahoo.com) \nRegistries: Color &amp; Solid\nClassifications: Horse, Pony,
  Mini\nJudges: Debra Jarvis, Trisha Shorten-Armstrong, Jennifer Wahr, &amp;
  Carole Dunbar\nApproval Status: APPROVED\n
X-ALT-DESC;FMTTYPE=text/html:<p>Name of Show:&nbsp;Summer Horse Show<br />Show Host: Indiana PtHA®<br />
 Show Location: Henry Co Saddle Club, 2221 N Memorial Dr, New Castle, IN<br 
 />Show Manager: Wyneta Duncan, 317-462-9224,&nbsp;<a href="mailto:wsrduncan
 @aol.com">wsrduncan@aol.com</a>&nbsp;<br />Show Secretary: Becki Meek, 812-
 603-4786,&nbsp;<a href="mailto:meekbecki@yahoo.com">meekbecki@yahoo.com</a>
 &nbsp;<br />Registries: Color &amp; Solid<br />Classifications: Horse, Pony
 , Mini<br />Judges: Debra Jarvis, Trisha Shorten-Armstrong, Jennifer Wahr, 
 &amp; Carole Dunbar<br />Approval Status: APPROVED</p>
X-EXTRAINFO:Registries: Color &amp; Solid\nClassifications: Horse, Pony, Mini
DTSTAMP:20260424T104826
DTSTART;TZID=America/Chicago;VALUE=DATE:20260801
DTEND;TZID=America/Chicago;VALUE=DATE:20260803
SEQUENCE:0
TRANSP:OPAQUE
END:VEVENT
END:VCALENDAR