BEGIN:VCALENDAR
VERSION:2.0
PRODID:-//jEvents 2.0 for Joomla//EN
CALSCALE:GREGORIAN
METHOD:PUBLISH
BEGIN:VTIMEZONE
TZID:America/Chicago
BEGIN:STANDARD
DTSTART:20251102T010000
RDATE:20260308T030000
TZOFFSETFROM:-0500
TZOFFSETTO:-0600
TZNAME:America/Chicago CST
END:STANDARD
BEGIN:STANDARD
DTSTART:20261101T010000
RDATE:20270314T030000
TZOFFSETFROM:-0500
TZOFFSETTO:-0600
TZNAME:America/Chicago CST
END:STANDARD
BEGIN:STANDARD
DTSTART:20271107T010000
RDATE:20280312T030000
TZOFFSETFROM:-0500
TZOFFSETTO:-0600
TZNAME:America/Chicago CST
END:STANDARD
BEGIN:STANDARD
DTSTART:20281105T010000
RDATE:20290311T030000
TZOFFSETFROM:-0500
TZOFFSETTO:-0600
TZNAME:America/Chicago CST
END:STANDARD
BEGIN:STANDARD
DTSTART:20291104T010000
RDATE:20300310T030000
TZOFFSETFROM:-0500
TZOFFSETTO:-0600
TZNAME:America/Chicago CST
END:STANDARD
BEGIN:STANDARD
DTSTART:20301103T010000
RDATE:20310309T030000
TZOFFSETFROM:-0500
TZOFFSETTO:-0600
TZNAME:America/Chicago CST
END:STANDARD
BEGIN:STANDARD
DTSTART:20311102T010000
RDATE:20320314T030000
TZOFFSETFROM:-0500
TZOFFSETTO:-0600
TZNAME:America/Chicago CST
END:STANDARD
BEGIN:DAYLIGHT
DTSTART:20250515T000000
RDATE:20251102T010000
TZOFFSETFROM:-0600
TZOFFSETTO:-0500
TZNAME:America/Chicago CDT
END:DAYLIGHT
BEGIN:DAYLIGHT
DTSTART:20260308T030000
RDATE:20261101T010000
TZOFFSETFROM:-0600
TZOFFSETTO:-0500
TZNAME:America/Chicago CDT
END:DAYLIGHT
BEGIN:DAYLIGHT
DTSTART:20270314T030000
RDATE:20271107T010000
TZOFFSETFROM:-0600
TZOFFSETTO:-0500
TZNAME:America/Chicago CDT
END:DAYLIGHT
BEGIN:DAYLIGHT
DTSTART:20280312T030000
RDATE:20281105T010000
TZOFFSETFROM:-0600
TZOFFSETTO:-0500
TZNAME:America/Chicago CDT
END:DAYLIGHT
BEGIN:DAYLIGHT
DTSTART:20290311T030000
RDATE:20291104T010000
TZOFFSETFROM:-0600
TZOFFSETTO:-0500
TZNAME:America/Chicago CDT
END:DAYLIGHT
BEGIN:DAYLIGHT
DTSTART:20300310T030000
RDATE:20301103T010000
TZOFFSETFROM:-0600
TZOFFSETTO:-0500
TZNAME:America/Chicago CDT
END:DAYLIGHT
BEGIN:DAYLIGHT
DTSTART:20310309T030000
RDATE:20311102T010000
TZOFFSETFROM:-0600
TZOFFSETTO:-0500
TZNAME:America/Chicago CDT
END:DAYLIGHT
END:VTIMEZONE
BEGIN:VEVENT
UID:6087fdf8695af632ee57f71bb4d45708
CATEGORIES:Local Shows
CREATED:20260220T111645
SUMMARY:NY Elmira Spring Fling
DESCRIPTION:Name of Show: Elmira Spring Fling\nShow Host: Arabian Enthusiasts of NY\nSh
 ow Location: Chemuny County Fairgrounds, 170 Fairview Rd, Horseheads, NY\nS
 how Manager: Tammy Lozipone, tlozip3368@gmail.com\nShow Secretary: Tammy Lo
 zipone, tlozip3368@gmail.com\nRegistries: Color &amp; Solid\nClassification
 s: Horse, Mini, Pony, Utility\nJudges: Kimberly Ziegler, Tina Langness, Jod
 i Distad\nApproval Status: APPROVED \n
X-ALT-DESC;FMTTYPE=text/html:<p>Name of Show: Elmira Spring Fling<br />Show Host: Arabian Enthusiasts of
  NY<br />Show Location: Chemuny County Fairgrounds, 170 Fairview Rd, Horseh
 eads, NY<br />Show Manager:&nbsp;Tammy Lozipone, tlozip3368@gmail.com<br />
 Show Secretary:&nbsp;Tammy Lozipone, tlozip3368@gmail.com<br />Registries: 
 Color &amp; Solid<br />Classifications: Horse, Mini, Pony, Utility<br />Jud
 ges: Kimberly Ziegler, Tina Langness, Jodi Distad<br />Approval Status: APP
 ROVED&nbsp;</p>
X-EXTRAINFO:Registries: Color &amp; Solid\nClassifications: Horse, Mini, Pony, Utility
DTSTAMP:20260424T074405
DTSTART;TZID=America/Chicago;VALUE=DATE:20260516
DTEND;TZID=America/Chicago;VALUE=DATE:20260518
SEQUENCE:0
TRANSP:OPAQUE
END:VEVENT
END:VCALENDAR