BEGIN:VCALENDAR
VERSION:2.0
PRODID:-//jEvents 2.0 for Joomla//EN
CALSCALE:GREGORIAN
METHOD:PUBLISH
BEGIN:VTIMEZONE
TZID:America/Chicago
BEGIN:STANDARD
DTSTART:20251102T010000
RDATE:20260308T030000
TZOFFSETFROM:-0500
TZOFFSETTO:-0600
TZNAME:America/Chicago CST
END:STANDARD
BEGIN:STANDARD
DTSTART:20261101T010000
RDATE:20270314T030000
TZOFFSETFROM:-0500
TZOFFSETTO:-0600
TZNAME:America/Chicago CST
END:STANDARD
BEGIN:STANDARD
DTSTART:20271107T010000
RDATE:20280312T030000
TZOFFSETFROM:-0500
TZOFFSETTO:-0600
TZNAME:America/Chicago CST
END:STANDARD
BEGIN:STANDARD
DTSTART:20281105T010000
RDATE:20290311T030000
TZOFFSETFROM:-0500
TZOFFSETTO:-0600
TZNAME:America/Chicago CST
END:STANDARD
BEGIN:STANDARD
DTSTART:20291104T010000
RDATE:20300310T030000
TZOFFSETFROM:-0500
TZOFFSETTO:-0600
TZNAME:America/Chicago CST
END:STANDARD
BEGIN:STANDARD
DTSTART:20301103T010000
RDATE:20310309T030000
TZOFFSETFROM:-0500
TZOFFSETTO:-0600
TZNAME:America/Chicago CST
END:STANDARD
BEGIN:STANDARD
DTSTART:20311102T010000
RDATE:20320314T030000
TZOFFSETFROM:-0500
TZOFFSETTO:-0600
TZNAME:America/Chicago CST
END:STANDARD
BEGIN:DAYLIGHT
DTSTART:20250401T000000
RDATE:20251102T010000
TZOFFSETFROM:-0600
TZOFFSETTO:-0500
TZNAME:America/Chicago CDT
END:DAYLIGHT
BEGIN:DAYLIGHT
DTSTART:20260308T030000
RDATE:20261101T010000
TZOFFSETFROM:-0600
TZOFFSETTO:-0500
TZNAME:America/Chicago CDT
END:DAYLIGHT
BEGIN:DAYLIGHT
DTSTART:20270314T030000
RDATE:20271107T010000
TZOFFSETFROM:-0600
TZOFFSETTO:-0500
TZNAME:America/Chicago CDT
END:DAYLIGHT
BEGIN:DAYLIGHT
DTSTART:20280312T030000
RDATE:20281105T010000
TZOFFSETFROM:-0600
TZOFFSETTO:-0500
TZNAME:America/Chicago CDT
END:DAYLIGHT
BEGIN:DAYLIGHT
DTSTART:20290311T030000
RDATE:20291104T010000
TZOFFSETFROM:-0600
TZOFFSETTO:-0500
TZNAME:America/Chicago CDT
END:DAYLIGHT
BEGIN:DAYLIGHT
DTSTART:20300310T030000
RDATE:20301103T010000
TZOFFSETFROM:-0600
TZOFFSETTO:-0500
TZNAME:America/Chicago CDT
END:DAYLIGHT
BEGIN:DAYLIGHT
DTSTART:20310309T030000
RDATE:20311102T010000
TZOFFSETFROM:-0600
TZOFFSETTO:-0500
TZNAME:America/Chicago CDT
END:DAYLIGHT
END:VTIMEZONE
BEGIN:VEVENT
UID:223b63c827958067a4faf1e4c6775b63
CATEGORIES:Local Shows
CREATED:20260220T112253
SUMMARY:MN April Kick Off
DESCRIPTION:Name of Show: April Kick Off\nShow Host: Minnesota PtHA\nShow Location: MN 
 Equestrian Center, 24621 Gilmore Valley Rd, Winona, MN\nShow Manager: John 
 Hanson, 612-221-1721, jrhanson3028@gmail.com (mailto:jrhanson3028@gmail.com
 )\nShow Secretary:Michelle Grebin, 507-261-5246\nRegistries: Color &amp; So
 lid\nClassifications: Horse, Mini, Pony\nJudges: Kennis Fairfax, Christine 
 Friendt, Mike Adams, &amp; Pam Whitfield\nApproval Status: APPROVED\n
X-ALT-DESC;FMTTYPE=text/html:<p>Name of Show: April Kick Off<br />Show Host: Minnesota PtHA<br />Show Lo
 cation: MN Equestrian Center, 24621 Gilmore Valley Rd, Winona, MN<br />Show
  Manager: John Hanson, 612-221-1721, <a href="mailto:jrhanson3028@gmail.com
 ">jrhanson3028@gmail.com</a><br />Show Secretary:Michelle Grebin, 507-261-5
 246<br />Registries: Color &amp; Solid<br />Classifications: Horse, Mini, P
 ony<br />Judges: Kennis Fairfax, Christine Friendt, Mike Adams, &amp; Pam W
 hitfield<br />Approval Status: APPROVED</p>
X-EXTRAINFO:Registries: Color &amp; Solid\nClassifications: Horse, Mini, Pony
DTSTAMP:20260420T091713
DTSTART;TZID=America/Chicago;VALUE=DATE:20260402
DTEND;TZID=America/Chicago;VALUE=DATE:20260405
SEQUENCE:0
TRANSP:OPAQUE
END:VEVENT
END:VCALENDAR