BEGIN:VCALENDAR
VERSION:2.0
PRODID:-//jEvents 2.0 for Joomla//EN
CALSCALE:GREGORIAN
METHOD:PUBLISH
BEGIN:VTIMEZONE
TZID:America/Chicago
BEGIN:STANDARD
DTSTART:20251102T010000
RDATE:20260308T030000
TZOFFSETFROM:-0500
TZOFFSETTO:-0600
TZNAME:America/Chicago CST
END:STANDARD
BEGIN:STANDARD
DTSTART:20261101T010000
RDATE:20270314T030000
TZOFFSETFROM:-0500
TZOFFSETTO:-0600
TZNAME:America/Chicago CST
END:STANDARD
BEGIN:STANDARD
DTSTART:20271107T010000
RDATE:20280312T030000
TZOFFSETFROM:-0500
TZOFFSETTO:-0600
TZNAME:America/Chicago CST
END:STANDARD
BEGIN:STANDARD
DTSTART:20281105T010000
RDATE:20290311T030000
TZOFFSETFROM:-0500
TZOFFSETTO:-0600
TZNAME:America/Chicago CST
END:STANDARD
BEGIN:STANDARD
DTSTART:20291104T010000
RDATE:20300310T030000
TZOFFSETFROM:-0500
TZOFFSETTO:-0600
TZNAME:America/Chicago CST
END:STANDARD
BEGIN:STANDARD
DTSTART:20301103T010000
RDATE:20310309T030000
TZOFFSETFROM:-0500
TZOFFSETTO:-0600
TZNAME:America/Chicago CST
END:STANDARD
BEGIN:STANDARD
DTSTART:20311102T010000
RDATE:20320314T030000
TZOFFSETFROM:-0500
TZOFFSETTO:-0600
TZNAME:America/Chicago CST
END:STANDARD
BEGIN:DAYLIGHT
DTSTART:20250807T000000
RDATE:20251102T010000
TZOFFSETFROM:-0600
TZOFFSETTO:-0500
TZNAME:America/Chicago CDT
END:DAYLIGHT
BEGIN:DAYLIGHT
DTSTART:20260308T030000
RDATE:20261101T010000
TZOFFSETFROM:-0600
TZOFFSETTO:-0500
TZNAME:America/Chicago CDT
END:DAYLIGHT
BEGIN:DAYLIGHT
DTSTART:20270314T030000
RDATE:20271107T010000
TZOFFSETFROM:-0600
TZOFFSETTO:-0500
TZNAME:America/Chicago CDT
END:DAYLIGHT
BEGIN:DAYLIGHT
DTSTART:20280312T030000
RDATE:20281105T010000
TZOFFSETFROM:-0600
TZOFFSETTO:-0500
TZNAME:America/Chicago CDT
END:DAYLIGHT
BEGIN:DAYLIGHT
DTSTART:20290311T030000
RDATE:20291104T010000
TZOFFSETFROM:-0600
TZOFFSETTO:-0500
TZNAME:America/Chicago CDT
END:DAYLIGHT
BEGIN:DAYLIGHT
DTSTART:20300310T030000
RDATE:20301103T010000
TZOFFSETFROM:-0600
TZOFFSETTO:-0500
TZNAME:America/Chicago CDT
END:DAYLIGHT
BEGIN:DAYLIGHT
DTSTART:20310309T030000
RDATE:20311102T010000
TZOFFSETFROM:-0600
TZOFFSETTO:-0500
TZNAME:America/Chicago CDT
END:DAYLIGHT
END:VTIMEZONE
BEGIN:VEVENT
UID:7d6e2554768f2ef3d02ed28a08f39830
CATEGORIES:Local Shows
CREATED:20260407T131632
SUMMARY:NE Lancaster Super Fair
DESCRIPTION:Name of Show: Lancaster Super Fair\nShow Host: Bluestem Miniature Horse Clu
 b\nShow Location: Sandhills Global Event Center, 4100 N 84th St, Lincoln, N
 E\nShow Manager &amp; Show Secretary: Lindsey Pinkham-Heiden, 402-630-9421,
  lmpinkham@hotmail.com \nRegistries: Color &amp; Solid\nClassifications: Po
 ny, Mini\nJudges: Theresa Palmer-Visser &amp; Jean Andrews\nApproval Status
 : APPROVED\n
X-ALT-DESC;FMTTYPE=text/html:<p>Name of Show: Lancaster Super Fair<br />Show Host: Bluestem Miniature Ho
 rse Club<br />Show Location: Sandhills Global Event Center, 4100 N 84th St,
  Lincoln, NE<br />Show Manager &amp; Show Secretary: Lindsey Pinkham-Heiden
 , 402-630-9421,&nbsp;lmpinkham@hotmail.com&nbsp;<br />Registries: Color &am
 p; Solid<br />Classifications: Pony, Mini<br />Judges:&nbsp;Theresa Palmer-
 Visser &amp; Jean Andrews<br />Approval Status: APPROVED</p>
X-EXTRAINFO:Registries: Color &amp; Solid\nClassifications: Pony, Mini
DTSTAMP:20260424T092049
DTSTART;TZID=America/Chicago;VALUE=DATE:20260808
DTEND;TZID=America/Chicago;VALUE=DATE:20260809
SEQUENCE:0
TRANSP:OPAQUE
END:VEVENT
END:VCALENDAR